BEGIN:VCALENDAR
VERSION:2.0
PRODID:-//ChamberMaster//Event Calendar 2.0//EN
METHOD:PUBLISH
X-PUBLISHED-TTL:P3D
REFRESH-INTERVAL:P3D
CALSCALE:GREGORIAN
BEGIN:VEVENT
DTSTART;VALUE=DATE:20181017
DTEND;VALUE=DATE:20181018
TRANSP:TRANSPARENT
X-MICROSOFT-CDO-ALLDAYEVENT:TRUE
SUMMARY:17th Annual Cape Abilities Benefit Golf Tournament
DESCRIPTION:In its 17th year\, the Cape Abilities Annual Benefit Golf Tournament is Shotgun Start/Scramble Format event in support of Cape Abilities. Prizes for Closest to Pin\, Longest Drive in several categories. Boxed Lunch\, Cocktails\, cash bar/dinner\, silent and live auctions and tournament awards round out a terrific day of golf and fun\, all to benefit the programs and services that support hundreds of individuals with disabilities on Cape Cod.
X-ALT-DESC;FMTTYPE=text/html:In its 17th year\, the Cape Abilities Annual Benefit Golf Tournament is Shotgun Start/Scramble Format event in support of Cape Abilities. Prizes for Closest to Pin\, Longest Drive in several categories. Boxed Lunch\, Cocktails\, cash bar/dinner\, silent and live auctions and tournament awards round out a terrific day of golf and fun\, all to benefit the programs and services that support hundreds of individuals with disabilities on Cape Cod.
LOCATION:Cummaquid Golf Club\, 35 Marstons Lane\, Cummaquid MA 02637
UID:e.3261.70
SEQUENCE:3
DTSTAMP:20260424T161339Z
URL:https://business.hyannis.com/events/details/17th-annual-cape-abilities-benefit-golf-tournament-70
END:VEVENT

END:VCALENDAR
