BEGIN:VCALENDAR
VERSION:2.0
PRODID:-//ChamberMaster//Event Calendar 2.0//EN
METHOD:PUBLISH
X-PUBLISHED-TTL:P3D
REFRESH-INTERVAL:P3D
CALSCALE:GREGORIAN
BEGIN:VEVENT
DTSTART;VALUE=DATE:20181011
DTEND;VALUE=DATE:20181012
TRANSP:TRANSPARENT
X-MICROSOFT-CDO-ALLDAYEVENT:TRUE
SUMMARY:2018 Golf Tournament
DESCRIPTION:Join us for some quality network time\, three meals and prizes on the links at the 2018 Shuck Golf Tournament.  \n\n\n	Tee time is 10:00 a.m.\n	Coffee\, pastries\, muffins and bagels will be served at registration\n	Boxed Lunch will be provided for each golfer-Sandwich\, chips\, cookies\, crackers and water\n	After dinner reception and awards will include\n	\n		clam chowder\n		stuffed quahogs\n		lobster mac and cheese balls\n		sliders- cheeseburger and pulled pork\n		spinach and artichoke dip with pita chips \n		spring rolls\n	\n	\n	Prizes for winners\n	Tickets to SHUCK! an afternoon of oysters and beer\, October 20\, 2018 1:00 - 5:00
X-ALT-DESC;FMTTYPE=text/html:<p>Join us for some quality network time\, three meals and prizes&nbsp\;on the links at the 2018 Shuck Golf Tournament.&nbsp\;&nbsp\;</p>\n\n<ul>\n	<li>Tee time is 10:00 a.m.</li>\n	<li>C<strong>offee\, pastries\, muffins and bagels</strong> will be served at registration</li>\n	<li>Boxed Lunch will be provided for each golfer-<strong>Sandwich\, chips\, cookies\, crackers and water</strong></li>\n	<li>After dinner reception and awards will include\n	<ul>\n		<li><strong><span style="font-size:12px\;"><span style="color: rgb(51\, 51\, 51)\; font-family: helvetica\, arial\, sans-serif\; background-color: rgb(255\, 255\, 255)\;">clam chowder</span></span></strong></li>\n		<li><strong><span style="font-size:12px\;"><span style="color: rgb(51\, 51\, 51)\; font-family: helvetica\, arial\, sans-serif\; background-color: rgb(255\, 255\, 255)\;">stuffed quahogs</span></span></strong></li>\n		<li><strong><span style="font-size:12px\;"><span style="color: rgb(51\, 51\, 51)\; font-family: helvetica\, arial\, sans-serif\; background-color: rgb(255\, 255\, 255)\;">lobster mac and cheese balls</span></span></strong></li>\n		<li><strong><span style="font-size:12px\;"><span style="color: rgb(51\, 51\, 51)\; font-family: helvetica\, arial\, sans-serif\; background-color: rgb(255\, 255\, 255)\;">sliders- cheeseburger and pulled pork</span></span></strong></li>\n		<li><strong><span style="font-size:12px\;"><span style="color: rgb(51\, 51\, 51)\; font-family: helvetica\, arial\, sans-serif\; background-color: rgb(255\, 255\, 255)\;">spinach and artichoke dip with pita chips </span></span></strong></li>\n		<li><strong><span style="font-size:12px\;"><span style="color: rgb(51\, 51\, 51)\; font-family: helvetica\, arial\, sans-serif\; background-color: rgb(255\, 255\, 255)\;">spring rolls</span></span></strong></li>\n	</ul>\n	</li>\n	<li>Prizes for winners</li>\n	<li>Tickets to SHUCK! an afternoon of oysters and beer\, October 20\, 2018 1:00 - 5:00</li>\n</ul>\n
LOCATION:Hyannis Golf Course 1800 Iyannough Rd\, Hyannis\, MA 02601
UID:e.3261.35
SEQUENCE:3
DTSTAMP:20260424T160421Z
URL:https://business.hyannis.com/events/details/2018-golf-tournament-35
END:VEVENT

END:VCALENDAR
