BEGIN:VCALENDAR
VERSION:2.0
PRODID:-//ChamberMaster//Event Calendar 2.0//EN
METHOD:PUBLISH
X-PUBLISHED-TTL:P3D
REFRESH-INTERVAL:P3D
CALSCALE:GREGORIAN
BEGIN:VEVENT
DTSTART:20181201T120000Z
DTEND:20181203T000000Z
X-MICROSOFT-CDO-ALLDAYEVENT:FALSE
SUMMARY:2018 Pack-A-Pilot
DESCRIPTION:Please join us or come say hi on Saturday December 1st and Sunday December 2nd as we collect new\, unwrapped toys for the Boston Children's Hospital NICU. Starting at 7 a.m. on December 1st through 7 p.m. on December 2nd we will be "camping out" across from Barnes & Noble at the Cape Cod Mall to pack a Honda Pilot\, courtesy of Hyannis Honda\, with toys and new clothing of any size and gender for families that find themselves unexpectedly at the NICU\, as we did. Why 36 hours? Each hour represents one day that we were inpatient at the NICU. On February 21st of 2017 we found ourselves at Boston Children's Hospital as a NICU patient family when we nearly lost our son. Because of that we do all that we can to support NICU families and recognize the hard work of those who are a part of all that Boston Children's Hospital does\, especially those who care for families in the NICU. https://www.facebook.com/events/2253059181584086/ We hope to see you there\, #TeamOllie of www.facebook.com/capecodollie
X-ALT-DESC;FMTTYPE=text/html:Please join us or come say hi on Saturday December 1st and Sunday December 2nd as we collect new\, unwrapped toys for the Boston Children&#39\;s Hospital NICU. Starting at 7 a.m. on December 1st through 7 p.m. on December 2nd we will be &quot\;camping out&quot\; across from Barnes &amp\; Noble at the Cape Cod Mall to pack a Honda Pilot\, courtesy of Hyannis Honda\, with toys and new clothing of any size and gender for families that find themselves unexpectedly at the NICU\, as we did. Why 36 hours? Each hour represents one day that we were inpatient at the NICU. On February 21st of 2017 we found ourselves at Boston Children&#39\;s Hospital as a NICU patient family when we nearly lost our son. Because of that we do all that we can to support NICU families and recognize the hard work of those who are a part of all that Boston Children&#39\;s Hospital does\, especially those who care for families in the NICU. https://www.facebook.com/events/2253059181584086/ We hope to see you there\, #TeamOllie of www.facebook.com/capecodollie
LOCATION:Cape Cod Mall\, across from Barnes & Noble
UID:e.3261.142
SEQUENCE:3
DTSTAMP:20260424T130144Z
URL:https://business.hyannis.com/events/details/2018-pack-a-pilot-142
END:VEVENT

END:VCALENDAR
