BEGIN:VCALENDAR
VERSION:2.0
PRODID:-//ChamberMaster//Event Calendar 2.0//EN
METHOD:PUBLISH
X-PUBLISHED-TTL:P3D
REFRESH-INTERVAL:P3D
CALSCALE:GREGORIAN
BEGIN:VEVENT
DTSTART:20181030T180000Z
DTEND:20181030T200000Z
X-MICROSOFT-CDO-ALLDAYEVENT:FALSE
SUMMARY:2018 Pest Control Symposium
DESCRIPTION:2018 Pest Control Training Symposium\n\nHosted by LifeSpace Pest Solutions\, Hyannis MA\n\n \n\nJoin industry experts for an afternoon of training on pests common to your business and home such as bed bugs\, mice\, rats\, ticks\, mosquitoes\, cockroaches\, occasional invaders and pollinators.  \n\n \n\nProgram includes:\n\n	Basic biology/behavior/identification of common insects and rodents\n	Health and safety risks associated with pests\n	Brand protection\, liability and public relations risk associated with pest infestations\n	Foundation of a proper pest management service program\n	Q & A\n\n \n\nPresenters\n\n \n\nKevin Moran\n\nBoard Certified Entomologist\n\nTechnical & Regulatory Advisor - Forshaw\, Inc. - Canton\, MA\n\n40 year pest control industry veteran\n\n \n\nMichael Russell\n\nAssociate Certified Entomologist\n\nPartner - LifeSpace Pest Solutions\, Inc. - Hyannis\, MA\n\n15 year pest control industry veteran
X-ALT-DESC;FMTTYPE=text/html:<span style="font-size:16.0pt\;">2018 Pest Control Training Symposium</span><br />\n<span style="font-size:16.0pt\;">Hosted by LifeSpace Pest Solutions\, Hyannis MA</span><br />\n&nbsp\;<br />\n<span style="font-size:12.0pt\;">Join industry experts for an afternoon of training on pests common to your business and home such as bed bugs\, mice\, rats\, ticks\, mosquitoes\, cockroaches\, occasional invaders and pollinators.&nbsp\; </span><br />\n&nbsp\;<br />\n<span style="font-size:12.0pt\;">Program includes:</span>\n<ul>\n	<li><span style="font-size:12.0pt\;">Basic biology/behavior/identification of common insects and rodents</span></li>\n	<li><span style="font-size:12.0pt\;">Health and safety risks associated with pests</span></li>\n	<li><span style="font-size:12.0pt\;">Brand protection\, liability and public relations risk associated with pest infestations</span></li>\n	<li><span style="font-size:12.0pt\;">Foundation of a proper pest management service program</span></li>\n	<li><span style="font-size:12.0pt\;">Q &amp\; A</span></li>\n</ul>\n&nbsp\;<br />\n<span style="font-size:12.0pt\;">Presenters</span><br />\n&nbsp\;<br />\n<span style="font-size:12.0pt\;">Kevin Moran</span><br />\n<span style="font-size:12.0pt\;">Board Certified Entomologist</span><br />\n<span style="font-size:12.0pt\;">Technical &amp\; Regulatory Advisor - Forshaw\, Inc. - Canton\, MA</span><br />\n<span style="font-size:12.0pt\;">40 year pest control industry veteran</span><br />\n&nbsp\;<br />\n<span style="font-size:12.0pt\;">Michael Russell</span><br />\n<span style="font-size:12.0pt\;">Associate Certified Entomologist</span><br />\n<span style="font-size:12.0pt\;">Partner - LifeSpace Pest Solutions\, Inc. - Hyannis\, MA</span><br />\n<span style="font-size:12.0pt\;">15 year pest control industry veteran</span><br />\n&nbsp\;<br />\n&nbsp\;
LOCATION:CapeSpace - 100 Independence Drive Hyannis\, MA
UID:e.3261.98
SEQUENCE:3
DTSTAMP:20260424T160258Z
URL:https://business.hyannis.com/events/details/2018-pest-control-symposium-98
END:VEVENT

END:VCALENDAR
