BEGIN:VCALENDAR
VERSION:2.0
PRODID:-//ChamberMaster//Event Calendar 2.0//EN
METHOD:PUBLISH
X-PUBLISHED-TTL:P3D
REFRESH-INTERVAL:P3D
CALSCALE:GREGORIAN
BEGIN:VEVENT
DTSTART:20251112T220000Z
DTEND:20251113T010000Z
X-MICROSOFT-CDO-ALLDAYEVENT:FALSE
SUMMARY:2025 The Taste of Barnstable Rescheduled Spring 2026
DESCRIPTION:Due to unforeseen circumstances beyond our control\, the Greater Hyannis Chamber of Commerce has made the difficult decision to postpone the "Taste of Barnstable" originally scheduled for Wednesday\, November 12th.\n\nAll ticket holders will receive full refunds\, and we'll be announcing a new date in the Spring of 2026.
X-ALT-DESC;FMTTYPE=text/html:<h2 data-end="263" data-start="191"><span style="font-size:18px\;"><span style="font-family:verdana\;">Due to unforeseen circumstances beyond our control\, the Greater Hyannis Chamber of Commerce has made the difficult decision to&nbsp\;<strong>postpone the &ldquo\;Taste of Barnstable&rdquo\;</strong>&nbsp\;originally scheduled for&nbsp\;<strong>Wednesday\, November 12th</strong>.</span></span></h2>\n\n<p style="color: rgb(34\, 34\, 34)\; font-family: Arial\, Helvetica\, sans-serif\; font-size: small\; background-color: rgb(255\, 255\, 255)\;"><span style="font-size:18px\;"><span style="font-family:verdana\;">All ticket holders will receive&nbsp\;<strong>full refunds</strong>\, and we&rsquo\;ll be announcing a&nbsp\;<strong>new date in the Spring of 2026.</strong>&nbsp\;</span></span></p>\n
LOCATION:
UID:e.3261.3763
SEQUENCE:3
DTSTAMP:20260421T232805Z
URL:https://business.hyannis.com/events/details/2025-the-taste-of-barnstable-rescheduled-spring-2026-3763
END:VEVENT

END:VCALENDAR
