BEGIN:VCALENDAR
VERSION:2.0
PRODID:-//ChamberMaster//Event Calendar 2.0//EN
METHOD:PUBLISH
X-PUBLISHED-TTL:P3D
REFRESH-INTERVAL:P3D
CALSCALE:GREGORIAN
BEGIN:VEVENT
DTSTART:20250920T140000Z
DTEND:20250921T200000Z
X-MICROSOFT-CDO-ALLDAYEVENT:FALSE
SUMMARY:37th Annual Cape Cod Glass Show & Sale
DESCRIPTION:Glass show & sale\, plus Identification booth and raffle of glass prize! Nationally Prominent glass dealers offering antique and collectable American and European glassware from the 18th to the 21st centuries.
X-ALT-DESC;FMTTYPE=text/html:Glass show &amp\; sale\, plus Identification booth and raffle of glass prize! Nationally Prominent glass dealers offering antique and collectable American and European glassware from the 18th to the 21st centuries.
LOCATION:Cultural Center of Cape Cod 307 Old Main St\, South Yarmouth\, MA
UID:e.3261.3769
SEQUENCE:3
DTSTAMP:20260421T200512Z
URL:https://business.hyannis.com/events/details/37th-annual-cape-cod-glass-show-sale-3769
END:VEVENT

END:VCALENDAR
