BEGIN:VCALENDAR
VERSION:2.0
PRODID:-//ChamberMaster//Event Calendar 2.0//EN
METHOD:PUBLISH
X-PUBLISHED-TTL:P3D
REFRESH-INTERVAL:P3D
CALSCALE:GREGORIAN
BEGIN:VEVENT
DTSTART:20181103T180000Z
DTEND:20181103T210000Z
X-MICROSOFT-CDO-ALLDAYEVENT:FALSE
SUMMARY:3rd Annual Mass Brew Fest
DESCRIPTION:Join us for our 3rd Annual Mass. Brew Fest\n\nFREE Craft Beer tastings from Massachusetts' Breweries\;  including hard to get limited releases\, seasonal brews and cider! Raffles and giveaways too!
X-ALT-DESC;FMTTYPE=text/html:<div>&nbsp\;</div>\n\n<div>\n<div>Join us for our 3rd Annual Mass. Brew Fest</div>\n\n<div>FREE Craft Beer tastings from Massachusetts&#39\; Breweries\;&nbsp\; including hard to get limited releases\, seasonal brews and cider! Raffles and giveaways too!</div>\n</div>\n\n<div>&nbsp\;</div>\n
LOCATION:Cape Cod Package Store Fine Wine & Spirits
UID:e.3261.113
SEQUENCE:3
DTSTAMP:20260424T143453Z
URL:https://business.hyannis.com/events/details/3rd-annual-mass-brew-fest-113
END:VEVENT

END:VCALENDAR
