BEGIN:VCALENDAR
VERSION:2.0
PRODID:-//ChamberMaster//Event Calendar 2.0//EN
METHOD:PUBLISH
X-PUBLISHED-TTL:P3D
REFRESH-INTERVAL:P3D
CALSCALE:GREGORIAN
BEGIN:VEVENT
DTSTART:20190306T193000Z
DTEND:20190306T220000Z
X-MICROSOFT-CDO-ALLDAYEVENT:FALSE
SUMMARY:3rd Annual Youth Job Fair
DESCRIPTION:ADMISSION IS FREE AND BUSINESSES PARTICIPATE FOR FREE! Businesses can contact amy.harwood@town.barnstable.ma.us OR 508-862-4638 to reserve space. HURRY\, SPACE IS LIMITED.... CALL TODAY! Presented by The Barnstable Youth Commission\, open to all youths between the ages of 14-18 looking for a job at locally based businesses\, seasonlally or year-round. The Executive Suite will be here again to coach first time job seekers and answer questions about labor laws and other topics related to job seeking.
X-ALT-DESC;FMTTYPE=text/html:ADMISSION IS FREE AND BUSINESSES PARTICIPATE FOR FREE! Businesses can contact amy.harwood@town.barnstable.ma.us OR 508-862-4638 to reserve space. HURRY\, SPACE IS LIMITED.... CALL TODAY! Presented by The Barnstable Youth Commission\, open to all youths between the ages of 14-18 looking for a job at locally based businesses\, seasonlally or year-round. The Executive Suite will be here again to coach first time job seekers and answer questions about labor laws and other topics related to job seeking.
LOCATION:Hyannis Youth & Community Center
UID:e.3261.194
SEQUENCE:3
DTSTAMP:20260424T102101Z
URL:https://business.hyannis.com/events/details/3rd-annual-youth-job-fair-194
END:VEVENT

END:VCALENDAR
