BEGIN:VCALENDAR
VERSION:2.0
PRODID:-//ChamberMaster//Event Calendar 2.0//EN
METHOD:PUBLISH
X-PUBLISHED-TTL:P3D
REFRESH-INTERVAL:P3D
CALSCALE:GREGORIAN
BEGIN:VEVENT
DTSTART:20180728T140000Z
DTEND:20180729T200000Z
X-MICROSOFT-CDO-ALLDAYEVENT:FALSE
SUMMARY:7th Annual Brewster Summer Arts and Craft Festival
DESCRIPTION:The Historic Drummer Boy Park in Brewster\, MA hosts a variety of traditional American made works at the Brewster Summer Arts and Craft Festival on Saturday July 28 and Sunday July 29\, 2018. Over 100 Juried Artisans will display and sell their American made arts and crafts\; including Photography\, Tile\, Fine Art\, Silver Jewelry\, Hair Accessories\, Quilts\, Personal Care\, Floral Design\, Soy Candles\, Trivets\, Flags\, Painted Doormats\, Pottery\, Doll Clothes\, Adult Apparel\, Flags\, Toys\, Pet Gifts\, Pillows\, Fiber Art\, Wreathes\, Stained Glass\, Children's Clothing\, Wire Wrapped Jewelry\, Shell Crafts\, Baskets\, Ornaments\, Photo-art\, Leather\, Metal Garden Sculpture\, Sheep Skin Accessories\, Sea Glass Jewelry\, Mosaic\, Paper Crafts\, Stoneware\, Original Painting\, Nautical Home D cor\, Folk Art\, Furniture and much more. Come and sample such gourmet delights as Cranberry Jellies\, Honey\, Kettle Corn\, Olive Oils\, BBQ Sauces\, Wine Slushy Mixes\, Lemonade\, Herbal Dips and more. The Brewster Summer Arts & Craft Festival is free admission and held rain or shine. Friendly pets on leash are welcome. Directions: From Route 6 take Exit 9B onto Route 134\, follow to Route 6A. GPS Location: 773 Main Street\, Brewster\, MA 02631. Festival Hours are Saturday from 10am to 5pm and ?Sunday from 9am to 4pm. For more information visit us at castleberryfairs.com
X-ALT-DESC;FMTTYPE=text/html:The Historic Drummer Boy Park in Brewster\, MA hosts a variety of traditional American made works at the Brewster Summer Arts and Craft Festival on Saturday July 28 and Sunday July 29\, 2018. Over 100 Juried Artisans will display and sell their American made arts and crafts\; including Photography\, Tile\, Fine Art\, Silver Jewelry\, Hair Accessories\, Quilts\, Personal Care\, Floral Design\, Soy Candles\, Trivets\, Flags\, Painted Doormats\, Pottery\, Doll Clothes\, Adult Apparel\, Flags\, Toys\, Pet Gifts\, Pillows\, Fiber Art\, Wreathes\, Stained Glass\, Children&#39\;s Clothing\, Wire Wrapped Jewelry\, Shell Crafts\, Baskets\, Ornaments\, Photo-art\, Leather\, Metal Garden Sculpture\, Sheep Skin Accessories\, Sea Glass Jewelry\, Mosaic\, Paper Crafts\, Stoneware\, Original Painting\, Nautical Home D&eacute\;cor\, Folk Art\, Furniture and much more. Come and sample such gourmet delights as Cranberry Jellies\, Honey\, Kettle Corn\, Olive Oils\, BBQ Sauces\, Wine Slushy Mixes\, Lemonade\, Herbal Dips and more. The Brewster Summer Arts &amp\; Craft Festival is free admission and held rain or shine. Friendly pets on leash are welcome. Directions: From Route 6 take Exit 9B onto Route 134\, follow to Route 6A. GPS Location: 773 Main Street\, Brewster\, MA 02631. Festival Hours are Saturday from 10am to 5pm and ?Sunday from 9am to 4pm. For more information visit us at castleberryfairs.com
LOCATION:Drummer Boy Park\, Route 6A\, Brewster\, MA
UID:e.3261.21
SEQUENCE:3
DTSTAMP:20260424T211830Z
URL:https://business.hyannis.com/events/details/7th-annual-brewster-summer-arts-and-craft-festival-21
END:VEVENT

END:VCALENDAR
