BEGIN:VCALENDAR
VERSION:2.0
PRODID:-//ChamberMaster//Event Calendar 2.0//EN
METHOD:PUBLISH
X-PUBLISHED-TTL:P3D
REFRESH-INTERVAL:P3D
CALSCALE:GREGORIAN
BEGIN:VEVENT
DTSTART:20250709T170000Z
DTEND:20250709T180000Z
X-MICROSOFT-CDO-ALLDAYEVENT:FALSE
SUMMARY:A History of Lighthouses: From Conception to Present Day w/Retired Coast Guard Captain Greg Ketchen
DESCRIPTION:New England has some of the most beautiful coastline in the world. And with that\, come some dangerous waters to navigate. Learn about the vital role these incredible beacons have played throughout history with this presentation by Retired Coast Guard Captain Greg Ketchen. This program will take place on Wednesday July 9th at 1pm in the Main Meeting Room at the Osterville Village Library. For more information or to register for this event\, please contact Amy Wolfe at awolfe@clamsnet.org or by calling the OVL directly at (508)428-5757
X-ALT-DESC;FMTTYPE=text/html:New England has some of the most beautiful coastline in the world. And with that\, come some dangerous waters to navigate. Learn about the vital role these incredible beacons have played throughout history with this presentation by Retired Coast Guard Captain Greg Ketchen. This program will take place on Wednesday July 9th at 1pm in the Main Meeting Room at the Osterville Village Library. For more information or to register for this event\, please contact Amy Wolfe at awolfe@clamsnet.org or by calling the OVL directly at (508)428-5757
LOCATION:Main Meeting Room Osterville Village Library 43 Wianno Ave Osterville MA
UID:e.3261.3352
SEQUENCE:3
DTSTAMP:20260421T183433Z
URL:https://business.hyannis.com/events/details/a-history-of-lighthouses-from-conception-to-present-day-w-retired-coast-guard-captain-greg-ketchen-3352
END:VEVENT

END:VCALENDAR
