BEGIN:VCALENDAR
VERSION:2.0
PRODID:-//ChamberMaster//Event Calendar 2.0//EN
METHOD:PUBLISH
X-PUBLISHED-TTL:P3D
REFRESH-INTERVAL:P3D
CALSCALE:GREGORIAN
BEGIN:VEVENT
DTSTART:20250412T170000Z
DTEND:20250412T180000Z
X-MICROSOFT-CDO-ALLDAYEVENT:FALSE
SUMMARY:'A History of Sandwich Glass' with the Sandwich Glass Museum at the Osterville Village Library
DESCRIPTION:Olivia Padula\, Curator of Collections of the Sandwich Glass Museum\, will be sharing the story of the Boston and Sandwich Glass Company and how the glass industry shaped\, and continues to shape\, the local community. Founded in 1825 by Deming Jarves\, the Boston and Sandwich Glass Company industrialized the oldest town on Cape Cod and brought a rich artistic tradition to the area that still thrives today. During its over 60 years of operation the factory manufactured everything from mass-produced pressed glass to the finest cut\, engraved\, and painted glass. This talk will discuss the artistic and the technical processes of making glass\, and the history of glass making in the town of Sandwich\, MA. This program will take place on Saturday April 12th at 1pm in the Main Meeting Room at the Osterville Village Library. For more information or to register for this event\, please contact Amy Wolfe at awolfe@clamsnet.org or by calling the OVL directly at (508)428-5757
X-ALT-DESC;FMTTYPE=text/html:Olivia Padula\, Curator of Collections of the Sandwich Glass Museum\, will be sharing the story of the Boston and Sandwich Glass Company and how the glass industry shaped\, and continues to shape\, the local community. Founded in 1825 by Deming Jarves\, the Boston and Sandwich Glass Company industrialized the oldest town on Cape Cod and brought a rich artistic tradition to the area that still thrives today. During its over 60 years of operation the factory manufactured everything from mass-produced pressed glass to the finest cut\, engraved\, and painted glass. This talk will discuss the artistic and the technical processes of making glass\, and the history of glass making in the town of Sandwich\, MA. This program will take place on Saturday April 12th at 1pm in the Main Meeting Room at the Osterville Village Library. For more information or to register for this event\, please contact Amy Wolfe at awolfe@clamsnet.org or by calling the OVL directly at (508)428-5757
LOCATION:Osterville Village Library 43 Wianno Ave Osterville MA
UID:e.3261.3235
SEQUENCE:3
DTSTAMP:20260421T131802Z
URL:https://business.hyannis.com/events/details/a-history-of-sandwich-glass-with-the-sandwich-glass-museum-at-the-osterville-village-library-3235
END:VEVENT

END:VCALENDAR
