BEGIN:VCALENDAR
VERSION:2.0
PRODID:-//ChamberMaster//Event Calendar 2.0//EN
METHOD:PUBLISH
X-PUBLISHED-TTL:P3D
REFRESH-INTERVAL:P3D
CALSCALE:GREGORIAN
BEGIN:VEVENT
DTSTART:20250705T180000Z
DTEND:20250705T193000Z
X-MICROSOFT-CDO-ALLDAYEVENT:FALSE
SUMMARY:A Journey Through Strings & Stories: A Fingerstyle Guitar Masterclass with Hiroya Tsukamoto
DESCRIPTION:Sat\, Jul 5\, 2-330pm. Internationally acclaimed fingerstyle guitarist Hiroya Tsukamoto will lead a comfortable\, informal masterclass for players of all levels of ability and accomplishment. This workshop is for those who have a basic knowledge of open chords. Wisdom on scales\, thumb placement\, tunings\, improvisation\, and more to help players improve and expand their talents will be presented with kindness and patience and easy laughter by one of the best fingerstyle players in the world. Hiroya will demonstrate fingerstyle techniques\, including chords and basic theory\, breaking down elements such as tone and rhythm\, explaining how to apply them to a practice routine. Questions will be warmly received. $50 Members\, $55 Not-Yet-Members. To register visit www.cultural-center.org or call 508-394-7100. Cultural Center of Cape Cod\, 307 Old Main St.\, South Yarmouth.
X-ALT-DESC;FMTTYPE=text/html:Sat\, Jul 5\, 2-330pm. Internationally acclaimed fingerstyle guitarist Hiroya Tsukamoto will lead a comfortable\, informal masterclass for players of all levels of ability and accomplishment. This workshop is for those who have a basic knowledge of open chords. Wisdom on scales\, thumb placement\, tunings\, improvisation\, and more to help players improve and expand their talents will be presented with kindness and patience and easy laughter by one of the best fingerstyle players in the world. Hiroya will demonstrate fingerstyle techniques\, including chords and basic theory\, breaking down elements such as tone and rhythm\, explaining how to apply them to a practice routine. Questions will be warmly received. $50 Members\, $55 Not-Yet-Members. To register visit www.cultural-center.org or call 508-394-7100. Cultural Center of Cape Cod\, 307 Old Main St.\, South Yarmouth.
LOCATION:Cultural Center of Cape Cod\, 307 Old Main St.\, South Yarmouth
UID:e.3261.3414
SEQUENCE:3
DTSTAMP:20260421T182737Z
URL:https://business.hyannis.com/events/details/a-journey-through-strings-stories-a-fingerstyle-guitar-masterclass-with-hiroya-tsukamoto-3414
END:VEVENT

END:VCALENDAR
