BEGIN:VCALENDAR
VERSION:2.0
PRODID:-//ChamberMaster//Event Calendar 2.0//EN
METHOD:PUBLISH
X-PUBLISHED-TTL:P3D
REFRESH-INTERVAL:P3D
CALSCALE:GREGORIAN
BEGIN:VEVENT
DTSTART:20181124T160000Z
DTEND:20181124T210000Z
X-MICROSOFT-CDO-ALLDAYEVENT:FALSE
SUMMARY:A Very Merry Market
DESCRIPTION:It's a Very Merry Market at Cape Cod Beer! Holiday shop with your favorite local makers! A Pop-Up market with locally produced goods. Every Saturday we'll have a half dozen Cape Cod artisans here at the brewery showcasing their products. Stop by for some creative and fun\, local\, gift ideas! And Beer!
X-ALT-DESC;FMTTYPE=text/html:It&rsquo\;s a Very Merry Market at Cape Cod Beer! Holiday shop with your favorite local makers! A Pop-Up market with locally produced goods. Every Saturday we&rsquo\;ll have a half dozen Cape Cod artisans here at the brewery showcasing their products. Stop by for some creative and fun\, local\, gift ideas! And Beer!
LOCATION:Cape Cod Beer 1336 Phinney's Lane Hyannis\, MA 02601
UID:e.3261.85
SEQUENCE:3
DTSTAMP:20260424T160727Z
URL:https://business.hyannis.com/events/details/a-very-merry-market-11-24-2018-85
END:VEVENT

END:VCALENDAR
