BEGIN:VCALENDAR
VERSION:2.0
PRODID:-//ChamberMaster//Event Calendar 2.0//EN
METHOD:PUBLISH
X-PUBLISHED-TTL:P3D
REFRESH-INTERVAL:P3D
CALSCALE:GREGORIAN
BEGIN:VEVENT
DTSTART:20181210T210000Z
DTEND:20181210T220000Z
X-MICROSOFT-CDO-ALLDAYEVENT:FALSE
SUMMARY:Accommodations and Restaurant Circle 2
DESCRIPTION:Chamber Circle for accommodations and restaurant industry members.
X-ALT-DESC;FMTTYPE=text/html:Chamber Circle for accommodations and restaurant industry members.&nbsp\;
LOCATION:Double Tree by Hilton Cape Cod - Hyannis 287 Iyannough Rd\, Hyannis\, MA 02601
UID:e.3261.146
SEQUENCE:3
DTSTAMP:20260424T143329Z
URL:https://business.hyannis.com/events/details/accommodations-and-restaurant-circle-2-146
END:VEVENT

END:VCALENDAR
