BEGIN:VCALENDAR
VERSION:2.0
PRODID:-//ChamberMaster//Event Calendar 2.0//EN
METHOD:PUBLISH
X-PUBLISHED-TTL:P3D
REFRESH-INTERVAL:P3D
CALSCALE:GREGORIAN
BEGIN:VEVENT
DTSTART:20181015T190000Z
DTEND:20181015T200000Z
X-MICROSOFT-CDO-ALLDAYEVENT:FALSE
SUMMARY:Accommodations and Restaurant Circle
DESCRIPTION:Chamber Circle for accommodations and restaurant industry members.  This is the first meeting to discuss increasing business in these two sectors.  This can include special events\, cooperative advertising or legislative efforts.
X-ALT-DESC;FMTTYPE=text/html:Chamber Circle for accommodations and restaurant industry members.&nbsp\; This is the first meeting to discuss increasing business in these two sectors.&nbsp\; This can include special events\, cooperative advertising or legislative efforts.
LOCATION:Double Tree by Hilton Cape Cod - Hyannis 287 Iyannough Rd\, Hyannis\, MA 02601
UID:e.3261.81
SEQUENCE:3
DTSTAMP:20260424T163336Z
URL:https://business.hyannis.com/events/details/accommodations-and-restaurant-circle-81
END:VEVENT

END:VCALENDAR
