BEGIN:VCALENDAR
VERSION:2.0
PRODID:-//ChamberMaster//Event Calendar 2.0//EN
METHOD:PUBLISH
X-PUBLISHED-TTL:P3D
REFRESH-INTERVAL:P3D
CALSCALE:GREGORIAN
BEGIN:VEVENT
DTSTART:20190309T230000Z
DTEND:20190310T030000Z
X-MICROSOFT-CDO-ALLDAYEVENT:FALSE
SUMMARY:Annual Chili Contest
DESCRIPTION:Beat the Winter blahs! Come out and join us for our annual Chili Cook-Off Fundraiser! Bring your best chili\, whether it be meat lovers\, vegetarian\, amateur or professional. $100 cash prize and bragging rights for Best Overall Chili. People's choice voting! Categories include: Hottest Best Presentation Best Vegetarian Best Overall SATURDAY\, MARCH 9th at the NEW Stone Path Malt\, 11 Kendrick Rd in the Industrial park across from Wareham Crossing 6-10 p.m. $10 per person to attend\, sample the different chili's and vote! $25 to enter your chili. Enter as many as you like! All proceeds benefit the Onset Bay Association and their efforts of investing in Onset through community events (Fireworks\, concerts and so much more!) and beautification projects around the Village. Cash bar with some of the best New England craft beers made with Stone Path Malt! Wine also available. Gift raffle table! 50/50 Raffle! Scratch ticket raffle! Live music with The Mike and Betsy Show! You will love their high energy and vast song list! (Acoustic) For more info\, to donate a raffle item\, to volunteer or to get an application and cook-off entry rules\, email onsetvillage@gmail.com or call the OBA office at 508-295-7072. Stop by our new office at 196 Onset Ave\, Wed-Fri\, 10-2. More details to come! Stay tuned here and on our website www.onsetbay.org To find out more about Stone Path Malt\, check out their website at www.stonepathmalt.com or swing by the taproom sometime: Wednesday-Friday: 4-8pm Saturday: 1-8pm Address: 11 Kendrick Road Wareham\, MA 02571
X-ALT-DESC;FMTTYPE=text/html:Beat the Winter blahs! Come out and join us for our annual Chili Cook-Off Fundraiser! Bring your best chili\, whether it be meat lovers\, vegetarian\, amateur or professional. $100 cash prize and bragging rights for Best Overall Chili. People&#39\;s choice voting! Categories include: Hottest Best Presentation Best Vegetarian Best Overall SATURDAY\, MARCH 9th at the NEW Stone Path Malt\, 11 Kendrick Rd in the Industrial park across from Wareham Crossing 6-10 p.m. $10 per person to attend\, sample the different chili&#39\;s and vote! $25 to enter your chili. Enter as many as you like! All proceeds benefit the Onset Bay Association and their efforts of investing in Onset through community events (Fireworks\, concerts and so much more!) and beautification projects around the Village. Cash bar with some of the best New England craft beers made with Stone Path Malt! Wine also available. Gift raffle table! 50/50 Raffle! Scratch ticket raffle! Live music with The Mike and Betsy Show! You will love their high energy and vast song list! (Acoustic) For more info\, to donate a raffle item\, to volunteer or to get an application and cook-off entry rules\, email onsetvillage@gmail.com or call the OBA office at<rc-c2d-number data-rc-number=" 508-295-7072"> 508-295-7072</rc-c2d-number>. Stop by our new office at 196 Onset Ave\, Wed-Fri\, 10-2. More details to come! Stay tuned here and on our website www.onsetbay.org To find out more about Stone Path Malt\, check out their website at www.stonepathmalt.com or swing by the taproom sometime: Wednesday-Friday: 4-8pm Saturday: 1-8pm Address: 11 Kendrick Road Wareham\, MA 02571
LOCATION:Stone Path Malt 11 Kendrick Road West Wareham\, MA 02571
UID:e.3261.205
SEQUENCE:3
DTSTAMP:20260424T084044Z
URL:https://business.hyannis.com/events/details/annual-chili-contest-205
END:VEVENT

END:VCALENDAR
