BEGIN:VCALENDAR
VERSION:2.0
PRODID:-//ChamberMaster//Event Calendar 2.0//EN
METHOD:PUBLISH
X-PUBLISHED-TTL:P3D
REFRESH-INTERVAL:P3D
CALSCALE:GREGORIAN
BEGIN:VEVENT
DTSTART:20251115T220000Z
DTEND:20251116T000000Z
X-MICROSOFT-CDO-ALLDAYEVENT:FALSE
SUMMARY:Art Reception: "40 over 40\," by Sandra Costello
DESCRIPTION:Reception: Sat\, Nov 15\, 5-7pm Photographer Sandra Costello is returning with her celebrated 40 Over 40 Portrait Series at the Cultural Center of Cape Cod. This inspiring exhibit shines a spotlight on women over forty who are rewriting the rules   bold\, brilliant\, and unapologetically themselves. The closing reception on November 15\, 2025\, from 5:00 7:00 PM\, invites the public to experience forty stunning portraits paired with each woman's personal story. Sandra's project has become a beloved tradition\, celebrating midlife as a time of power\, creativity\, and connection. The evening will begin with an exclusive VIP gathering for participants and their guests at 4:30 PM\, followed by a public viewing from 5:00 7:00 PM. More than a collection of portraits\, 40 Over 40 is a movement   one that reclaims visibility and celebrates the beauty\, wisdom\, and vibrance of women in midlife and beyond. Each participant's story\, paired with her portrait\, will also be featured in a custom magazine debuting the night of the event. "This is more than an exhibit\," says Costello. "It's a celebration of women who have lived\, learned\, and loved deeply   and are ready to be seen in all their glory." The 40 Over 40 Portrait Series has become a beloved tradition\, gathering women from across New England who are eager to honor themselves and each other. This year's exhibit promises to be both heart-opening and unforgettable   a joyful reminder that beauty doesn't fade\; it deepens. Members of the community are invited to attend\, connect\, and be inspired. Reception Date: November 15\, 2025 Time: VIP 4:30 PM | Public Viewing 5:00 7:00 PM Learn more at sandralovesyou.com
X-ALT-DESC;FMTTYPE=text/html:Reception: Sat\, Nov 15\, 5-7pm Photographer Sandra Costello is returning with her celebrated 40 Over 40 Portrait Series at the Cultural Center of Cape Cod. This inspiring exhibit shines a spotlight on women over forty who are rewriting the rules &mdash\; bold\, brilliant\, and unapologetically themselves. The closing reception on November 15\, 2025\, from 5:00&ndash\;7:00 PM\, invites the public to experience forty stunning portraits paired with each woman&rsquo\;s personal story. Sandra&rsquo\;s project has become a beloved tradition\, celebrating midlife as a time of power\, creativity\, and connection. The evening will begin with an exclusive VIP gathering for participants and their guests at 4:30 PM\, followed by a public viewing from 5:00&ndash\;7:00 PM. More than a collection of portraits\, 40 Over 40 is a movement &mdash\; one that reclaims visibility and celebrates the beauty\, wisdom\, and vibrance of women in midlife and beyond. Each participant&rsquo\;s story\, paired with her portrait\, will also be featured in a custom magazine debuting the night of the event. &ldquo\;This is more than an exhibit\,&rdquo\; says Costello. &ldquo\;It&rsquo\;s a celebration of women who have lived\, learned\, and loved deeply &mdash\; and are ready to be seen in all their glory.&rdquo\; The 40 Over 40 Portrait Series has become a beloved tradition\, gathering women from across New England who are eager to honor themselves and each other. This year&rsquo\;s exhibit promises to be both heart-opening and unforgettable &mdash\; a joyful reminder that beauty doesn&rsquo\;t fade\; it deepens. Members of the community are invited to attend\, connect\, and be inspired. Reception Date: November 15\, 2025 Time: VIP 4:30 PM | Public Viewing 5:00&ndash\;7:00 PM Learn more at sandralovesyou.com
LOCATION:Cultural Center of Cape Cod 307 Old Main St. South Yarmouth\, MA 02664
UID:e.3261.3846
SEQUENCE:3
DTSTAMP:20260421T232250Z
URL:https://business.hyannis.com/events/details/art-reception-40-over-40-by-sandra-costello-3846
END:VEVENT

END:VCALENDAR
