BEGIN:VCALENDAR
VERSION:2.0
PRODID:-//ChamberMaster//Event Calendar 2.0//EN
METHOD:PUBLISH
X-PUBLISHED-TTL:P3D
REFRESH-INTERVAL:P3D
CALSCALE:GREGORIAN
BEGIN:VEVENT
DTSTART:20190312T223000Z
DTEND:20190313T000000Z
X-MICROSOFT-CDO-ALLDAYEVENT:FALSE
SUMMARY:Barnstable Public Forum with VIneyard Wind
DESCRIPTION:Vineyard Wind is giving a presentation and holding a Q & A session for Barnstable residents. Come learn about the Vineyard Wind project\, construction plans in Barnstable\, and the host community agreement between Vineyard Wind and the Town of Barnstable.
X-ALT-DESC;FMTTYPE=text/html:Vineyard Wind is giving a presentation and holding a Q &amp\; A session for Barnstable residents. Come learn about the Vineyard Wind project\, construction plans in Barnstable\, and the host community agreement between Vineyard Wind and the Town of Barnstable.
LOCATION:Barnstable Town Hall\, Hearing Room 367 Main Street\, Hyannis\, MA
UID:e.3261.212
SEQUENCE:3
DTSTAMP:20260424T083849Z
URL:https://business.hyannis.com/events/details/barnstable-public-forum-with-vineyard-wind-212
END:VEVENT

END:VCALENDAR
