BEGIN:VCALENDAR
VERSION:2.0
PRODID:-//ChamberMaster//Event Calendar 2.0//EN
METHOD:PUBLISH
X-PUBLISHED-TTL:P3D
REFRESH-INTERVAL:P3D
CALSCALE:GREGORIAN
BEGIN:VEVENT
DTSTART:20180913T220000Z
DTEND:20180913T233000Z
X-MICROSOFT-CDO-ALLDAYEVENT:FALSE
SUMMARY:Barnstable Senior Center Hosts Community Community Conversations
DESCRIPTION:Big things are happening at the Barnstable Senior Center! As we approach our 20th anniversary and launch evening program\, we need you to help us create our vision and engage in a conversation regarding our future. Join us to provide your feedback\, ideas and suggestion.
X-ALT-DESC;FMTTYPE=text/html:Big things are happening at the Barnstable Senior Center! As we approach our 20th anniversary and launch evening program\, we need you to help us create our vision and engage in a conversation regarding our future. Join us to provide your feedback\, ideas and suggestion.
LOCATION:Barnstable Senior Center 825 Falmouth Road\, Hyannis
UID:e.3261.46
SEQUENCE:3
DTSTAMP:20260424T174316Z
URL:https://business.hyannis.com/events/details/barnstable-senior-center-hosts-community-community-conversations-46
END:VEVENT

END:VCALENDAR
