BEGIN:VCALENDAR
VERSION:2.0
PRODID:-//ChamberMaster//Event Calendar 2.0//EN
METHOD:PUBLISH
X-PUBLISHED-TTL:P3D
REFRESH-INTERVAL:P3D
CALSCALE:GREGORIAN
BEGIN:VEVENT
DTSTART:20180901T140000Z
DTEND:20180902T200000Z
X-MICROSOFT-CDO-ALLDAYEVENT:FALSE
SUMMARY:Bass River Arts and Craft Festival
DESCRIPTION:The Bass River Arts and Craft Festival will be held on Saturday September 1 and Sunday September 2 at the Simpkins Field\, 1153 Route 28 in Yarmouth\, MA. Over 75 Juried Artisans will display and sell their American made works\; including Fine Jewelry\, Quilts\, Pottery\, Candles\, Floral Arrangements\, Hair Accessories\, Home D cor\, Personal Care\, Sports Team Apparel\, Sea Glass Jewelry\, Shell Crafts\, Fiber Art\, Doll Clothes\, Table Runners\, Nautical D cor\, Original Paintings\, Fused Glass\, Painted Doormats\, Landscape Photography\, Etchings\, Stoneware\, Pet accessories and much more. Come and sample specialty foods such as Herbal Dips\, Jellies\, Baked Goods and more. The Bass River Arts & Craft Festival is free admission and held rain or shine. Friendly pets on leash are welcome. Directions: From Route 6 take Exit 8 onto Station Ave\, follow to Route 28. GPS Location: 1153 Route 28\, Yarmouth\, MA 02664. Festival Hours are Saturday from 10am to 5pm and Sunday from 10am to 4pm. For more information visit us at castleberryfairs.com.
X-ALT-DESC;FMTTYPE=text/html:The Bass River Arts and Craft Festival will be held on Saturday September 1 and Sunday September 2 at the Simpkins Field\, 1153 Route 28 in Yarmouth\, MA. Over 75 Juried Artisans will display and sell their American made works\; including Fine Jewelry\, Quilts\, Pottery\, Candles\, Floral Arrangements\, Hair Accessories\, Home D&eacute\;cor\, Personal Care\, Sports Team Apparel\, Sea Glass Jewelry\, Shell Crafts\, Fiber Art\, Doll Clothes\, Table Runners\, Nautical D&eacute\;cor\, Original Paintings\, Fused Glass\, Painted Doormats\, Landscape Photography\, Etchings\, Stoneware\, Pet accessories and much more. Come and sample specialty foods such as Herbal Dips\, Jellies\, Baked Goods and more. The Bass River Arts &amp\; Craft Festival is free admission and held rain or shine. Friendly pets on leash are welcome. Directions: From Route 6 take Exit 8 onto Station Ave\, follow to Route 28. GPS Location: 1153 Route 28\, Yarmouth\, MA 02664. Festival Hours are Saturday from 10am to 5pm and Sunday from 10am to 4pm. For more information visit us at castleberryfairs.com.
LOCATION:Simpkins Field\, 1153 Route 28 in Yarmouth\, MA
UID:e.3261.24
SEQUENCE:3
DTSTAMP:20260424T174428Z
URL:https://business.hyannis.com/events/details/bass-river-arts-and-craft-festival-24
END:VEVENT

END:VCALENDAR
