BEGIN:VCALENDAR
VERSION:2.0
PRODID:-//ChamberMaster//Event Calendar 2.0//EN
METHOD:PUBLISH
X-PUBLISHED-TTL:P3D
REFRESH-INTERVAL:P3D
CALSCALE:GREGORIAN
BEGIN:VEVENT
DTSTART;VALUE=DATE:20180802
DTEND;VALUE=DATE:20180805
TRANSP:TRANSPARENT
X-MICROSOFT-CDO-ALLDAYEVENT:TRUE
SUMMARY:Bayberry Quilters Annual Quilt Show
DESCRIPTION:The Bayberry Quilt Guild welcomes you to their Annual Quilt Show: "Seasons of Quilting" New location this year at Barnstable High School! The show features displays of beautiful quilts\, vendors\, a boutique of handcrafted items and daily lectures and demos. Professional quilt appraisals available. Raffle quilt with proceeds for scholarships for Cape students.
X-ALT-DESC;FMTTYPE=text/html:The Bayberry Quilt Guild welcomes you to their Annual Quilt Show: &quot\;Seasons of Quilting&quot\; New location this year at Barnstable High School! The show features displays of beautiful quilts\, vendors\, a boutique of handcrafted items and daily lectures and demos. Professional quilt appraisals available. Raffle quilt with proceeds for scholarships for Cape students.
LOCATION:Barnstable High School 744 West Main Street\, Hyannis
UID:e.3261.26
SEQUENCE:3
DTSTAMP:20260424T193004Z
URL:https://business.hyannis.com/events/details/bayberry-quilters-annual-quilt-show-26
END:VEVENT

END:VCALENDAR
