BEGIN:VCALENDAR
VERSION:2.0
PRODID:-//ChamberMaster//Event Calendar 2.0//EN
METHOD:PUBLISH
X-PUBLISHED-TTL:P3D
REFRESH-INTERVAL:P3D
CALSCALE:GREGORIAN
BEGIN:VEVENT
DTSTART:20181105T150000Z
DTEND:20181105T230000Z
X-MICROSOFT-CDO-ALLDAYEVENT:FALSE
SUMMARY:BEER RELEASE: Cranberry Harvest
DESCRIPTION:Availability: November 5\, 2018 until gone Style: Fruit Beer Description: Sweet & mildly tart This beer is a collaborative effort among several local businesses. Cranberry Sunset Farm supplied hundreds of pounds of fresh cranberries. With expert assistance from The Local Juice the cranberries were reduced to juice. The fresh cranberry juice was infused into our award-winning German-style altbier\, Harvest Ale. Harvest Ale has a rich German malt aroma and is similar to an Oktoberfest. This specialty beer was brewed using a blend of 6 malts including German Munich\, Vienna\, Cara Pils and just enough noble hop character to balance the malts. The cranberries provide a tart zing at the front of the beer which is quickly balanced by the sweetness of the malts for a smooth finish. OG: 11.9 P (1.048SG) ABV: 5% IBUs: 18 Malts: Pale\, Munich\, Vienna\, Cara Pils\, Wheat\, Black Hops: Perle\, Liberty\, Saaz Packaging (subject to availability): growlers\, tastings & pints at the brewery
X-ALT-DESC;FMTTYPE=text/html:Availability: November 5\, 2018 until gone Style: Fruit Beer Description: Sweet &amp\; mildly tart This beer is a collaborative effort among several local businesses. Cranberry Sunset Farm supplied hundreds of pounds of fresh cranberries. With expert assistance from The Local Juice the cranberries were reduced to juice. The fresh cranberry juice was infused into our award-winning German-style altbier\, Harvest Ale. Harvest Ale has a rich German malt aroma and is similar to an Oktoberfest. This specialty beer was brewed using a blend of 6 malts including German Munich\, Vienna\, Cara Pils and just enough noble hop character to balance the malts. The cranberries provide a tart zing at the front of the beer which is quickly balanced by the sweetness of the malts for a smooth finish. OG: 11.9&deg\;P (1.048SG) ABV: 5% IBUs: 18 Malts: Pale\, Munich\, Vienna\, Cara Pils\, Wheat\, Black Hops: Perle\, Liberty\, Saaz Packaging (subject to availability): growlers\, tastings &amp\; pints at the brewery
LOCATION:Cape Cod Beer 1336 Phinney's Lane Hyannis\, MA 02601
UID:e.3261.90
SEQUENCE:3
DTSTAMP:20260424T143518Z
URL:https://business.hyannis.com/events/details/beer-release-cranberry-harvest-90
END:VEVENT

END:VCALENDAR
