BEGIN:VCALENDAR
VERSION:2.0
PRODID:-//ChamberMaster//Event Calendar 2.0//EN
METHOD:PUBLISH
X-PUBLISHED-TTL:P3D
REFRESH-INTERVAL:P3D
CALSCALE:GREGORIAN
BEGIN:VEVENT
DTSTART:20181109T150000Z
DTEND:20181109T230000Z
X-MICROSOFT-CDO-ALLDAYEVENT:FALSE
SUMMARY:BEER RELEASE: Ghost in Amber Cask
DESCRIPTION:At Cape Cod Beer\, we?ve taken the subtle spicy hop character of our amber ale and kicked it up a notch! Aged on ghost peppers\, this red ale?s got a kick! ABV: 5.5% IBUs: 35
X-ALT-DESC;FMTTYPE=text/html:At Cape Cod Beer\, we?ve taken the subtle spicy hop character of our amber ale and kicked it up a notch! Aged on ghost peppers\, this red ale?s got a kick! ABV: 5.5% IBUs: 35
LOCATION:Cape Cod Beer 1336 Phinney's Lane Hyannis\, MA 02601
UID:e.3261.115
SEQUENCE:3
DTSTAMP:20260424T143453Z
URL:https://business.hyannis.com/events/details/beer-release-ghost-in-amber-cask-115
END:VEVENT

END:VCALENDAR
