BEGIN:VCALENDAR
VERSION:2.0
PRODID:-//ChamberMaster//Event Calendar 2.0//EN
METHOD:PUBLISH
X-PUBLISHED-TTL:P3D
REFRESH-INTERVAL:P3D
CALSCALE:GREGORIAN
BEGIN:VEVENT
DTSTART:20181126T150000Z
DTEND:20181126T230000Z
X-MICROSOFT-CDO-ALLDAYEVENT:FALSE
SUMMARY:BEER RELEASE: Old Man Winter
DESCRIPTION:Weighing in at a burly 7.9% ABV\, this rich and malty beer is brewed with more than 2\,000 pounds of malted barley. This clear\, dark reddish-brown beer has a mildly sweet aroma with a dried fruit tone. The rich malts produce a sweet caramel flavor that is balanced by the sharp bitterness of the hops and combine into an overall smooth texture. This beer is complex and perfect for sipping by the fire while the winds whip over Cape Cod Bay. ABV: 7.9% IBUs: 65
X-ALT-DESC;FMTTYPE=text/html:Weighing in at a burly 7.9% ABV\, this rich and malty beer is brewed with more than 2\,000 pounds of malted barley. This clear\, dark reddish-brown beer has a mildly sweet aroma with a dried fruit tone. The rich malts produce a sweet caramel flavor that is balanced by the sharp bitterness of the hops and combine into an overall smooth texture. This beer is complex and perfect for sipping by the fire while the winds whip over Cape Cod Bay. ABV: 7.9% IBUs: 65
LOCATION:Cape Cod Beer 1336 Phinney's Lane Hyannis\, MA 02601
UID:e.3261.102
SEQUENCE:3
DTSTAMP:20260424T143431Z
URL:https://business.hyannis.com/events/details/beer-release-old-man-winter-102
END:VEVENT

END:VCALENDAR
