BEGIN:VCALENDAR
VERSION:2.0
PRODID:-//ChamberMaster//Event Calendar 2.0//EN
METHOD:PUBLISH
X-PUBLISHED-TTL:P3D
REFRESH-INTERVAL:P3D
CALSCALE:GREGORIAN
BEGIN:VEVENT
DTSTART:20181207T150000Z
DTEND:20181207T230000Z
X-MICROSOFT-CDO-ALLDAYEVENT:FALSE
SUMMARY:BEER RELEASE: Vanilla Bean Porter
DESCRIPTION:This drinkable dark beer with a chocolatey malt character is infused with Madagascar Vanilla Beans. The flavor is rich\, dark and creamy with a sweet\, buttery aroma\, pairing perfectly with the delicious dark chocolate malt flavor in our Porter. Madagascar Vanilla Beans are known for their superior flavor and aromatic qualities making them the most popular and sought after vanilla variety.  This beer is exclusive to the brewery and available in 750 ml bottles only. The perfect holiday gift!
X-ALT-DESC;FMTTYPE=text/html:This drinkable dark beer with a chocolatey malt character is infused with Madagascar Vanilla Beans. The flavor is rich\, dark and creamy with a sweet\, buttery aroma\, pairing perfectly with the delicious dark chocolate malt flavor in our Porter. Madagascar Vanilla Beans are known for their superior flavor and aromatic qualities making them the most popular and sought after vanilla variety.&nbsp\; This beer is exclusive to the brewery and available in 750 ml bottles only.&nbsp\;The perfect holiday gift!
LOCATION:Cape Cod Beer 1336 Phinney's Lane Hyannis\, MA 02601
UID:e.3261.120
SEQUENCE:3
DTSTAMP:20260424T131922Z
URL:https://business.hyannis.com/events/details/beer-release-vanilla-bean-porter-120
END:VEVENT

END:VCALENDAR
