BEGIN:VCALENDAR
VERSION:2.0
PRODID:-//ChamberMaster//Event Calendar 2.0//EN
METHOD:PUBLISH
X-PUBLISHED-TTL:P3D
REFRESH-INTERVAL:P3D
CALSCALE:GREGORIAN
BEGIN:VEVENT
DTSTART:20260517T170000Z
DTEND:20260517T180000Z
X-MICROSOFT-CDO-ALLDAYEVENT:FALSE
SUMMARY:Behind the Scenes\, an Author Talk with C. L. Fornari Featuring her Latest Book ‘Hydrangea Happiness’
DESCRIPTION:Please join the Osterville Village Library and Titcomb's Bookshop and let's celebrate 'Hydrangea Happiness' with author C.L. Fornari! Hear some behind-the-scenes information about how the author came to write this book. Learn about some of the newer varieties of Hydrangeas\, and what they bring to your garden. Discover which shrubs will work best for you\, and ask C.L. your questions about these long-flowering plants! A bit about the author: C.L. Fornari is the author of nine books on plants and gardening. She hosts The Garden Lady on WCAI and WGBH every Saturday afternoon\, and has grown gardens on Cape Cod since 1993. For more information or to register for this event\, please contact Amy Wolfe at awolfe@clamsnet.org or by calling the OVL directly at (508)428-57577
X-ALT-DESC;FMTTYPE=text/html:Please join the Osterville Village Library and Titcomb&rsquo\;s Bookshop and let&rsquo\;s celebrate &lsquo\;Hydrangea Happiness&rsquo\; with author C.L. Fornari! Hear some behind-the-scenes information about how the author came to write this book. Learn about some of the newer varieties of Hydrangeas\, and what they bring to your garden. Discover which shrubs will work best for you\, and ask C.L. your questions about these long-flowering plants! A bit about the author: C.L. Fornari is the author of nine books on plants and gardening. She hosts The Garden Lady on WCAI and WGBH every Saturday afternoon\, and has grown gardens on Cape Cod since 1993. For more information or to register for this event\, please contact Amy Wolfe at awolfe@clamsnet.org or by calling the OVL directly at (508)428-57577
LOCATION:Main Meeting Room Osterville Village Library 43 Wianno Ave Osterville MA
UID:e.3261.3965
SEQUENCE:3
DTSTAMP:20260420T024357Z
URL:https://business.hyannis.com/events/details/behind-the-scenes-an-author-talk-with-c-l-fornari-featuring-her-latest-book-hydrangea-happiness-3965
END:VEVENT

END:VCALENDAR
