BEGIN:VCALENDAR
VERSION:2.0
PRODID:-//ChamberMaster//Event Calendar 2.0//EN
METHOD:PUBLISH
X-PUBLISHED-TTL:P3D
REFRESH-INTERVAL:P3D
CALSCALE:GREGORIAN
BEGIN:VEVENT
DTSTART:20250626T220000Z
DTEND:20250627T000000Z
X-MICROSOFT-CDO-ALLDAYEVENT:FALSE
SUMMARY:Book Launch with John Wilson\, Author of 'Varsity Blues: The Scandal Within The Scandal'
DESCRIPTION:How far would you go to defend your family's honor if you were falsely accused of a crime? What if your adversary was the federal government with a 99.6 percent conviction rate? What if you also had to fight a global streaming giant and a prestigious university to clear your family's name? Would you spend your entire life savings? Could you endure seven years of emotional\, psychological and financial hell fighting three Goliaths at once? Meet John Wilson. He answers these impossible questions with the ground breaking book launch of "Varsity Blues: The Scandal Within The Scandal" detailing out the college admissions scandal that rocked the nation\, and the only Massachusetts man falsely accused. Thursday June 26th at 6pm in the Anne Williams McGraw Atrium at the Osterville Village Library. Reservations are strongly encouraged. For more information and to register for this event\, please contact Amy Wolfe at awolfe@clamsnet.org or by calling the OVL directly at (508)428-5757
X-ALT-DESC;FMTTYPE=text/html:How far would you go to defend your family&#39\;s honor if you were falsely accused of a crime? What if your adversary was the federal government with a 99.6 percent conviction rate? What if you also had to fight a global streaming giant and a prestigious university to clear your family&#39\;s name? Would you spend your entire life savings? Could you endure seven years of emotional\, psychological and financial hell fighting three Goliaths at once? Meet John Wilson. He answers these impossible questions with the ground breaking book launch of &quot\;Varsity Blues: The Scandal Within The Scandal&quot\; detailing out the college admissions scandal that rocked the nation\, and the only Massachusetts man falsely accused. Thursday June 26th at 6pm in the Anne Williams McGraw Atrium at the Osterville Village Library. Reservations are strongly encouraged. For more information and to register for this event\, please contact Amy Wolfe at awolfe@clamsnet.org or by calling the OVL directly at (508)428-5757
LOCATION:Anne Williams McGraw Atrium Osterville Village Library 43 Wianno Ave Osterville\, MA
UID:e.3261.3348
SEQUENCE:3
DTSTAMP:20260421T150735Z
URL:https://business.hyannis.com/events/details/book-launch-with-john-wilson-author-of-varsity-blues-the-scandal-within-the-scandal-3348
END:VEVENT

END:VCALENDAR
