BEGIN:VCALENDAR
VERSION:2.0
PRODID:-//ChamberMaster//Event Calendar 2.0//EN
METHOD:PUBLISH
X-PUBLISHED-TTL:P3D
REFRESH-INTERVAL:P3D
CALSCALE:GREGORIAN
BEGIN:VEVENT
DTSTART;VALUE=DATE:20181205
DTEND;VALUE=DATE:20181206
TRANSP:TRANSPARENT
X-MICROSOFT-CDO-ALLDAYEVENT:TRUE
SUMMARY:Bourbon Whiskey Tasting
DESCRIPTION:Join us for a sip of fine Bourbon Whiskies and Bourbons! You may just find a new favorite!  Shop early for holiday gifts\, too! \n\nClick here to learn about our High End Bourbon Raffle to benefit Cape Wellness Collaborative. Winners will be announced during the tastings!
X-ALT-DESC;FMTTYPE=text/html:<p>Join us for a sip of fine Bourbon Whiskies and Bourbons! You may just find a new favorite!&nbsp\; Shop early for holiday gifts\, too!&nbsp\;</p>\n\n<p><a href="https://myemail.constantcontact.com/Rare-Bourbon-Raffle-begins-today-at-CCPS--You-could-be-the-lucky-one-.html?soid=1101262700011&amp\;aid=dvgO5HnANKs">Click here </a>to learn about our&nbsp\;High End Bourbon Raffle to benefit Cape Wellness Collaborative. Winners will be announced during the tastings!&nbsp\;</p>\n
LOCATION:Cape Cod Package Store Fine Wine & Spirits
UID:e.3261.140
SEQUENCE:3
DTSTAMP:20260424T132203Z
URL:https://business.hyannis.com/events/details/bourbon-whiskey-bourbon-tasting-140
END:VEVENT

END:VCALENDAR
