BEGIN:VCALENDAR
VERSION:2.0
PRODID:-//ChamberMaster//Event Calendar 2.0//EN
METHOD:PUBLISH
X-PUBLISHED-TTL:P3D
REFRESH-INTERVAL:P3D
CALSCALE:GREGORIAN
BEGIN:VEVENT
DTSTART:20181005T140000Z
DTEND:20181005T220000Z
X-MICROSOFT-CDO-ALLDAYEVENT:FALSE
SUMMARY:Breakfast Blonde Beer Release
DESCRIPTION:Availability: 10/5/18 until gone Style: Coffee Blonde Description: Light & Bold Breakfast Blonde is an unexpected combination of flavors made in collaboration with our friends at Cape Cod Coffee. Enjoy the light toastiness of our Blonde Ale enhanced by the dark roastiness of their popular Vienna Roast Coffee. This light brew has a crisp and clean base with strong aromas and flavors derived from the single source coffee beans. Breakfast  it's the most important beer of the day! OG: 11.5  P (1.046SG) ABV: 4.9% IBUs: 10 Malts: Canadian Two Row\, English Wheat\, German Vienna & Carapils Hops: Domestic Northern Brewer & Cascade Packaging (subject to availability): 750 ml. souvenir champagne bottles
X-ALT-DESC;FMTTYPE=text/html:Availability: 10/5/18 until gone Style: Coffee Blonde Description: Light &amp\; Bold Breakfast Blonde is an unexpected combination of flavors made in collaboration with our friends at Cape Cod Coffee. Enjoy the light toastiness of our Blonde Ale enhanced by the dark roastiness of their popular Vienna Roast Coffee. This light brew has a crisp and clean base with strong aromas and flavors derived from the single source coffee beans. Breakfast&hellip\; it&rsquo\;s the most important beer of the day! OG: 11.5 &deg\;P (1.046SG) ABV: 4.9% IBUs: 10 Malts: Canadian Two Row\, English Wheat\, German Vienna &amp\; Carapils Hops: Domestic Northern Brewer &amp\; Cascade Packaging (subject to availability): 750 ml. souvenir champagne bottles
LOCATION:Cape Cod Beer 1336 Phinney's Lane Hyannis\, MA 02601
UID:e.3261.79
SEQUENCE:3
DTSTAMP:20260424T160330Z
URL:https://business.hyannis.com/events/details/breakfast-blonde-beer-release-79
END:VEVENT

END:VCALENDAR
