BEGIN:VCALENDAR
VERSION:2.0
PRODID:-//ChamberMaster//Event Calendar 2.0//EN
METHOD:PUBLISH
X-PUBLISHED-TTL:P3D
REFRESH-INTERVAL:P3D
CALSCALE:GREGORIAN
BEGIN:VEVENT
DTSTART:20181208T133000Z
DTEND:20181208T163000Z
X-MICROSOFT-CDO-ALLDAYEVENT:FALSE
SUMMARY:Breakfast with Santa
DESCRIPTION:Join us for a continental breakfast with Santa and Mrs. Claus to benefit marine animals! Featuring breakfast goodies\, holiday arts and crafts\, and Behind-the-Scenes tours!
X-ALT-DESC;FMTTYPE=text/html:Join us for a continental breakfast with Santa and Mrs. Claus to benefit marine animals! Featuring breakfast goodies\, holiday arts and crafts\, and Behind-the-Scenes tours!
LOCATION:120 Main Street\, Buzzards Bay\, MA 02532
UID:e.3261.112
SEQUENCE:3
DTSTAMP:20260424T131119Z
URL:https://business.hyannis.com/events/details/breakfast-with-santa-112
END:VEVENT

END:VCALENDAR
