BEGIN:VCALENDAR
VERSION:2.0
PRODID:-//ChamberMaster//Event Calendar 2.0//EN
METHOD:PUBLISH
X-PUBLISHED-TTL:P3D
REFRESH-INTERVAL:P3D
CALSCALE:GREGORIAN
BEGIN:VEVENT
DTSTART:20181201T140000Z
DTEND:20181201T170000Z
X-MICROSOFT-CDO-ALLDAYEVENT:FALSE
SUMMARY:Breakfast With Santa
DESCRIPTION:Meet Santa and Listen to the Cape Cod Carolers\n\n\n\nBreakfast with Santa\, a Hyannis Tradition\, will take place on December 1\, 2018 at the British Beer Company.  There will be two seatings 9:00 a.m. and 10:30 a.m.\n\n\n\nThis is a great event for family and a wonderful kick off to the Christmas Stroll.  No tickets will be sold at the door so please pre order.
X-ALT-DESC;FMTTYPE=text/html:<span style="color:#FF0000\;"><span style="font-size:22px\;"><span style="font-family:times new roman\;">Meet Santa and Listen to the Cape Cod Carolers</span></span></span><br />\n<br />\nBreakfast with Santa\, a Hyannis Tradition\, will take place on December 1\, 2018 at the British Beer Company.&nbsp\; There will be two seatings 9:00 a.m. and 10:30 a.m.<br />\n<br />\nThis is a great event for family and a wonderful kick off to the Christmas Stroll.&nbsp\; No tickets will be sold at the door so please pre order.
LOCATION:British Beer Company 412 Main St\, Hyannis\, MA 02601
UID:e.3261.124
SEQUENCE:3
DTSTAMP:20260424T131831Z
URL:https://business.hyannis.com/events/details/breakfast-with-santa-124
END:VEVENT

END:VCALENDAR
