BEGIN:VCALENDAR
VERSION:2.0
PRODID:-//ChamberMaster//Event Calendar 2.0//EN
METHOD:PUBLISH
X-PUBLISHED-TTL:P3D
REFRESH-INTERVAL:P3D
CALSCALE:GREGORIAN
BEGIN:VEVENT
DTSTART:20251120T170000Z
DTEND:20251205T220000Z
X-MICROSOFT-CDO-ALLDAYEVENT:FALSE
SUMMARY:Breakfast with Santa Sponsor
DESCRIPTION:Help us bring the magic of the Holiday season to local families at the Greater Hyannis Chamber of Commerce Breakfast with Santa! This festive morning features a delicious breakfast buffet\, holiday music\, and Santa\, too!\n\n\n\nYour sponsorship supports this community tradition and showcases your business as a proud supporter of Hyannis and the Town of Barnstable.\n \n\nSanta Sponsor   $750   SOLD\, Thanks to RIPTIDE\, LLC.\n\nOur premier sponsor helps bring Santa to town!\n\nIncludes:\n\n\n	\n	"Santa Sponsor" recognition as top sponsor\n	\n	\n	Logo in largest size on event signage and marketing\n	\n	\n	Recognition in welcome remarks at the event\n	\n	\n	Logo and link on event webpage and eblasts\n	\n	\n	6 complimentary tickets to Breakfast with Santa\n	\n\n\n\nHoliday Cheer Sponsor   $500\n\nPerfect for businesses that want strong visibility and to "sleigh" the season.\n\nIncludes:\n\n\n	\n	Logo on event signage at the venue\n	\n	\n	Name and logo on event webpage\n	\n	\n	Recognition in event eblast and social media\n	\n	\n	Verbal thank-you during the program\n	\n	\n	4 complimentary tickets to Breakfast with Santa\n	\n\n\n\nElf Sponsor   $250\n\nGreat for businesses who love to spread local holiday cheer.\n\nIncludes:\n\n\n	\n	Logo on event webpage\n	\n	\n	Name included on shared "Elf Sponsors" sign at the event\n	\n	\n	Group thank-you in social media post\n	\n	\n	2 complimentary tickets to Breakfast with Santa\n	\n\n\n\nPancakes Sponsor   $100\n\nIdeal for small businesses wanting a festive presence.\n\nIncludes:\n\n\n	\n	Business name listed on event webpage\n	\n	\n	Business name included on group "Pancakes Sponsors" sign\n	\n	\n	Group thank-you in a social media post\n\n	\n\n	TO BECOME A SPONSOR\, CLICK ON THE "REGISTER" BUTTON AND CHOOSE YOUR SPONSORSHIP LEVEL.
X-ALT-DESC;FMTTYPE=text/html:<span style="font-size:16px\;"><span style="font-family:verdana\;">Help us bring the magic of the Holiday season to local families at the Greater Hyannis Chamber of Commerce Breakfast with Santa! This festive morning features a delicious breakfast buffet\, holiday music\, and Santa\, too!<br />\n<br />\nYour sponsorship supports this community tradition and showcases your business as a proud supporter of Hyannis and the Town of Barnstable.</span></span>\n<p data-end="1921" data-start="1832">&nbsp\;</p>\n\n<p data-end="1223" data-start="1125"><span style="font-size:16px\;"><span style="font-family:verdana\;"><strong data-end="1160" data-start="1125">Santa Sponsor &ndash\; $750 &ndash\; SOLD\, Thanks to <a href="https://www.riptidellc.com/">RIPTIDE\, LLC.</a></strong><br data-end="1163" data-start="1160" />\nOur premier sponsor helps bring Santa to town!<br data-end="1212" data-start="1209" />\nIncludes:</span></span></p>\n\n<ul data-end="1473" data-start="1224">\n	<li data-end="1270" data-start="1224">\n	<p data-end="1270" data-start="1226"><span style="font-size:16px\;"><span style="font-family:verdana\;">&ldquo\;Santa Sponsor&rdquo\; recognition as top sponsor</span></span></p>\n	</li>\n	<li data-end="1326" data-start="1271">\n	<p data-end="1326" data-start="1273"><span style="font-size:16px\;"><span style="font-family:verdana\;">Logo in largest size on event signage and marketing</span></span></p>\n	</li>\n	<li data-end="1374" data-start="1327">\n	<p data-end="1374" data-start="1329"><span style="font-size:16px\;"><span style="font-family:verdana\;">Recognition in welcome remarks at the event</span></span></p>\n	</li>\n	<li data-end="1421" data-start="1375">\n	<p data-end="1421" data-start="1377"><span style="font-size:16px\;"><span style="font-family:verdana\;">Logo and link on event webpage and eblasts</span></span></p>\n	</li>\n	<li data-end="1473" data-start="1422">\n	<p data-end="1473" data-start="1424"><span style="font-size:16px\;"><span style="font-family:verdana\;">6 complimentary tickets to Breakfast with Santa</span></span></p>\n	</li>\n</ul>\n\n<hr data-end="1478" data-start="1475" />\n<p data-end="1597" data-start="1480"><span style="font-size:16px\;"><span style="font-family:verdana\;"><strong data-end="1512" data-start="1480">Holiday Cheer Sponsor &ndash\; $500</strong><br data-end="1515" data-start="1512" />\n<em data-end="1595" data-start="1515">Perfect for businesses that want strong visibility and to &ldquo\;sleigh&rdquo\; the season.</em></span></span></p>\n\n<p data-end="1610" data-start="1599"><span style="font-size:16px\;"><span style="font-family:verdana\;">Includes:</span></span></p>\n\n<ul data-end="1825" data-start="1611">\n	<li data-end="1649" data-start="1611">\n	<p data-end="1649" data-start="1613"><span style="font-size:16px\;"><span style="font-family:verdana\;">Logo on event signage at the venue</span></span></p>\n	</li>\n	<li data-end="1684" data-start="1650">\n	<p data-end="1684" data-start="1652"><span style="font-size:16px\;"><span style="font-family:verdana\;">Name and logo on event webpage</span></span></p>\n	</li>\n	<li data-end="1733" data-start="1685">\n	<p data-end="1733" data-start="1687"><span style="font-size:16px\;"><span style="font-family:verdana\;">Recognition in event eblast and social media</span></span></p>\n	</li>\n	<li data-end="1773" data-start="1734">\n	<p data-end="1773" data-start="1736"><span style="font-size:16px\;"><span style="font-family:verdana\;">Verbal thank-you during the program</span></span></p>\n	</li>\n	<li data-end="1825" data-start="1774">\n	<p data-end="1825" data-start="1776"><span style="font-size:16px\;"><span style="font-family:verdana\;">4 complimentary tickets to Breakfast with Santa</span></span></p>\n	</li>\n</ul>\n\n<hr data-end="1830" data-start="1827" />\n<p data-end="1921" data-start="1832"><span style="font-size:16px\;"><span style="font-family:verdana\;"><strong data-end="1854" data-start="1832">Elf Sponsor &ndash\; $250</strong><br data-end="1857" data-start="1854" />\n<em data-end="1919" data-start="1857">Great for businesses who love to spread local holiday cheer.</em></span></span></p>\n\n<p data-end="1934" data-start="1923"><span style="font-size:16px\;"><span style="font-family:verdana\;">Includes:</span></span></p>\n\n<ul data-end="2114" data-start="1935">\n	<li data-end="1960" data-start="1935">\n	<p data-end="1960" data-start="1937"><span style="font-size:16px\;"><span style="font-family:verdana\;">Logo on event webpage</span></span></p>\n	</li>\n	<li data-end="2021" data-start="1961">\n	<p data-end="2021" data-start="1963"><span style="font-size:16px\;"><span style="font-family:verdana\;">Name included on shared &ldquo\;Elf Sponsors&rdquo\; sign at the event</span></span></p>\n	</li>\n	<li data-end="2062" data-start="2022">\n	<p data-end="2062" data-start="2024"><span style="font-size:16px\;"><span style="font-family:verdana\;">Group thank-you in social media post</span></span></p>\n	</li>\n	<li data-end="2114" data-start="2063">\n	<p data-end="2114" data-start="2065"><span style="font-size:16px\;"><span style="font-family:verdana\;">2 complimentary tickets to Breakfast with Santa</span></span></p>\n	</li>\n</ul>\n\n<hr data-end="2119" data-start="2116" />\n<p data-end="2221" data-start="2121"><span style="font-size:16px\;"><span style="font-family:verdana\;"><strong data-end="2160" data-start="2121">Pancakes Sponsor &ndash\; $100</strong><br data-end="2163" data-start="2160" />\n<em data-end="2219" data-start="2163">Ideal for small businesses wanting a festive presence.</em></span></span></p>\n\n<p data-end="2234" data-start="2223"><span style="font-size:16px\;"><span style="font-family:verdana\;">Includes:</span></span></p>\n\n<ul data-end="2392" data-start="2235">\n	<li data-end="2276" data-start="2235">\n	<p data-end="2276" data-start="2237"><span style="font-size:16px\;"><span style="font-family:verdana\;">Business name listed on event webpage</span></span></p>\n	</li>\n	<li data-end="2349" data-start="2277">\n	<p data-end="2349" data-start="2279"><span style="font-size:16px\;"><span style="font-family:verdana\;">Business name included on group &ldquo\;Pancakes Sponsors&rdquo\; sign</span></span></p>\n	</li>\n	<li data-end="2392" data-start="2350">\n	<p data-end="2392" data-start="2352"><span style="font-size:16px\;"><span style="font-family:verdana\;">Group thank-you in a social media post<br />\n	<br />\n	TO BECOME A SPONSOR\, CLICK ON THE &quot\;REGISTER&quot\; BUTTON AND CHOOSE YOUR SPONSORSHIP LEVEL.</span></span></p>\n	</li>\n</ul>\n
LOCATION:The Emerald Resort 35 Scudder Avenue Hyannis\, MA
UID:e.3261.3858
SEQUENCE:3
DTSTAMP:20260422T022228Z
URL:https://business.hyannis.com/events/details/breakfast-with-santa-sponsor-3858
END:VEVENT

END:VCALENDAR
