BEGIN:VCALENDAR
VERSION:2.0
PRODID:-//ChamberMaster//Event Calendar 2.0//EN
METHOD:PUBLISH
X-PUBLISHED-TTL:P3D
REFRESH-INTERVAL:P3D
CALSCALE:GREGORIAN
BEGIN:VEVENT
DTSTART:20181219T223000Z
DTEND:20181220T003000Z
X-MICROSOFT-CDO-ALLDAYEVENT:FALSE
SUMMARY:Business After Hours-December Holiday Event
DESCRIPTION:Greater Hyannis Chamber of Commerce Monthly Business After Hours\n\nSponsored by Anejo
X-ALT-DESC;FMTTYPE=text/html:Greater Hyannis Chamber of Commerce Monthly Business After Hours<br />\nSponsored by Anejo
LOCATION:Anejo 599 Main Street\, Hyannis
UID:e.3261.108
SEQUENCE:3
DTSTAMP:20260424T132251Z
URL:https://business.hyannis.com/events/details/business-after-hours-december-holiday-event-108
END:VEVENT

END:VCALENDAR
