BEGIN:VCALENDAR
VERSION:2.0
PRODID:-//ChamberMaster//Event Calendar 2.0//EN
METHOD:PUBLISH
X-PUBLISHED-TTL:P3D
REFRESH-INTERVAL:P3D
CALSCALE:GREGORIAN
BEGIN:VEVENT
DTSTART:20190220T223000Z
DTEND:20190221T003000Z
X-MICROSOFT-CDO-ALLDAYEVENT:FALSE
SUMMARY:Business After Hours-February
DESCRIPTION:Greater Hyannis Chamber of Commerce Monthly Business After Hours\n\nSponsored by Gannon's Tavern
X-ALT-DESC;FMTTYPE=text/html:Greater Hyannis Chamber of Commerce Monthly Business After Hours<br />\nSponsored by Gannon&#39\;s Tavern
LOCATION:Gannon's Tavern 959 Bearses Way Hyannis\, MA
UID:e.3261.192
SEQUENCE:3
DTSTAMP:20260424T102038Z
URL:https://business.hyannis.com/events/details/business-after-hours-february-192
END:VEVENT

END:VCALENDAR
