BEGIN:VCALENDAR
VERSION:2.0
PRODID:-//ChamberMaster//Event Calendar 2.0//EN
METHOD:PUBLISH
X-PUBLISHED-TTL:P3D
REFRESH-INTERVAL:P3D
CALSCALE:GREGORIAN
BEGIN:VEVENT
DTSTART:20190116T223000Z
DTEND:20190117T003000Z
X-MICROSOFT-CDO-ALLDAYEVENT:FALSE
SUMMARY:Business After Hours-January
DESCRIPTION:Greater Hyannis Chamber of Commerce Monthly Business After Hours\n\nSponsored by Ethan Allen Hyannis. Refreshments sponsored by Alberto's Ristorante\, The Original Gourmet Brunch\, and Kappy's Fine Wine & Spirits.
X-ALT-DESC;FMTTYPE=text/html:Greater Hyannis Chamber of Commerce Monthly Business After Hours<br />\nSponsored by Ethan Allen Hyannis. Refreshments sponsored by Alberto&#39\;s Ristorante\, The Original Gourmet Brunch\, and Kappy&#39\;s Fine Wine &amp\; Spirits.
LOCATION:Ethan Allen Hyannis 970 Iyannough Road Hyannis\, MA 02601
UID:e.3261.152
SEQUENCE:3
DTSTAMP:20260424T113753Z
URL:https://business.hyannis.com/events/details/business-after-hours-january-152
END:VEVENT

END:VCALENDAR
