BEGIN:VCALENDAR
VERSION:2.0
PRODID:-//ChamberMaster//Event Calendar 2.0//EN
METHOD:PUBLISH
X-PUBLISHED-TTL:P3D
REFRESH-INTERVAL:P3D
CALSCALE:GREGORIAN
BEGIN:VEVENT
DTSTART:20180718T213000Z
DTEND:20180718T233000Z
X-MICROSOFT-CDO-ALLDAYEVENT:FALSE
SUMMARY:Business After Hours-July
DESCRIPTION:Greater Hyannis Chamber of Commerce Monthly Business After Hours\n\nSponsored by Global Marble and Granite
X-ALT-DESC;FMTTYPE=text/html:Greater Hyannis Chamber of Commerce Monthly Business After Hours<br />\nSponsored by Global Marble and Granite
LOCATION:Global Marble and Granite 1600 Falmouth Road\, Centerville
UID:e.3261.2
SEQUENCE:3
DTSTAMP:20260424T210733Z
URL:https://business.hyannis.com/events/details/business-after-hours-july-2
END:VEVENT

END:VCALENDAR
