BEGIN:VCALENDAR
VERSION:2.0
PRODID:-//ChamberMaster//Event Calendar 2.0//EN
METHOD:PUBLISH
X-PUBLISHED-TTL:P3D
REFRESH-INTERVAL:P3D
CALSCALE:GREGORIAN
BEGIN:VEVENT
DTSTART:20190320T213000Z
DTEND:20190320T213000Z
X-MICROSOFT-CDO-ALLDAYEVENT:FALSE
SUMMARY:Business After Hours - March
DESCRIPTION:Walk-in\, same day registrations are welcome\,\n\nbut please note online registration will close on the day of the event.\n\n\n\nGreater Hyannis Chamber of Commerce Monthly Business After Hours\n\nSponsored by Brazilian Grill
X-ALT-DESC;FMTTYPE=text/html:<span style="color:#0000FF\;"><span style="font-size:16px\;"><span style="font-family:arial\;"><strong>Walk-in\, same day registrations are welcome\,<br />\nbut please note online registration will close on the day of the event.</strong></span></span></span><br />\n<br />\nGreater Hyannis Chamber of Commerce Monthly Business After Hours<br />\nSponsored by Brazilian Grill&nbsp\;
LOCATION:Brazilian Grill 680 Main Street Hyannis\, MA
UID:e.3261.211
SEQUENCE:3
DTSTAMP:20260424T083937Z
URL:https://business.hyannis.com/events/details/business-after-hours-march-211
END:VEVENT

END:VCALENDAR
