BEGIN:VCALENDAR
VERSION:2.0
PRODID:-//ChamberMaster//Event Calendar 2.0//EN
METHOD:PUBLISH
X-PUBLISHED-TTL:P3D
REFRESH-INTERVAL:P3D
CALSCALE:GREGORIAN
BEGIN:VEVENT
DTSTART:20180516T213000Z
DTEND:20180516T233000Z
X-MICROSOFT-CDO-ALLDAYEVENT:FALSE
SUMMARY:Business After Hours-May
DESCRIPTION:Greater Hyannis Chamber of Commerce and the Ten Pin Eatery
X-ALT-DESC;FMTTYPE=text/html:Greater Hyannis Chamber of Commerce and the Ten Pin Eatery
LOCATION:Ten Pin Eatery
UID:e.3261.5
SEQUENCE:3
DTSTAMP:20260425T002427Z
URL:https://business.hyannis.com/events/details/business-after-hours-may-5
END:VEVENT

END:VCALENDAR
