BEGIN:VCALENDAR
VERSION:2.0
PRODID:-//ChamberMaster//Event Calendar 2.0//EN
METHOD:PUBLISH
X-PUBLISHED-TTL:P3D
REFRESH-INTERVAL:P3D
CALSCALE:GREGORIAN
BEGIN:VEVENT
DTSTART:20181108T223000Z
DTEND:20181109T000000Z
X-MICROSOFT-CDO-ALLDAYEVENT:FALSE
SUMMARY:Business After Hours-November Member Recruitment
DESCRIPTION:Special Member Recruitment Business After Hours - Please help us to recruit new members.  Bring a friend to this business afterhours to hear a presentation on the benefits of chamber membership\n\n\n\nSponsored by Greater Hyannis Chamber of Commerce in partnership with CLE and with support from Cape Cod Beer\n\n\n\n5:30 - 6:00        Networking\n\n6:00 - 6:15       Chamber Membership Presentation\n\n6:15 - 6:30       CLI presentation\n\n6:30 - 6:45       Door Prizes and 50:50\n\n6:45                 Networking
X-ALT-DESC;FMTTYPE=text/html:Special Member Recruitment Business After Hours - Please help us to recruit new members.&nbsp\; Bring a friend to this business afterhours to hear a presentation on the benefits of chamber membership<br />\n<br />\nSponsored by Greater Hyannis Chamber of Commerce in partnership with CLE and with support from Cape Cod Beer<br />\n<br />\n5:30 - 6:00 &nbsp\;&nbsp\;&nbsp\;&nbsp\;&nbsp\; &nbsp\;Networking<br />\n6:00 - 6:15&nbsp\; &nbsp\; &nbsp\; &nbsp\;Chamber Membership Presentation<br />\n6:15 - 6:30&nbsp\; &nbsp\;&nbsp\;&nbsp\;&nbsp\;&nbsp\;CLI presentation<br />\n6:30 - 6:45&nbsp\; &nbsp\;&nbsp\;&nbsp\;&nbsp\;&nbsp\;Door Prizes and 50:50<br />\n6:45&nbsp\;&nbsp\;&nbsp\;&nbsp\;&nbsp\;&nbsp\;&nbsp\;&nbsp\;&nbsp\;&nbsp\;&nbsp\;&nbsp\;&nbsp\;&nbsp\; &nbsp\; Networking<br />\n&nbsp\;
LOCATION:Cape Cod Beer
UID:e.3261.69
SEQUENCE:3
DTSTAMP:20260424T160758Z
URL:https://business.hyannis.com/events/details/business-after-hours-november-member-recruitment-69
END:VEVENT

END:VCALENDAR
