BEGIN:VCALENDAR
VERSION:2.0
PRODID:-//ChamberMaster//Event Calendar 2.0//EN
METHOD:PUBLISH
X-PUBLISHED-TTL:P3D
REFRESH-INTERVAL:P3D
CALSCALE:GREGORIAN
BEGIN:VEVENT
DTSTART:20250925T213000Z
DTEND:20250925T230000Z
X-MICROSOFT-CDO-ALLDAYEVENT:FALSE
SUMMARY:** Cancelled** September Business After Hours at Classic Kitchens and Yale Appliance
DESCRIPTION:This event has been cancelled and will be rescheduled in early 2026.\n\n\n\nJoin us for our September Business After Hours at\n\n \n\nClassic Kitchens and Yale Appliance\n\n \n\n Foster meaningful business relationships\, exchange ideas\, and explore potential collaborations.  Don't miss this chance to expand your professional network and enhance your business prospects.  We look forward to the opportunity to connect with you! Bring your business cards for raffle prizes!\n\n \n\nComplimentary Appetizers and cash bar!
X-ALT-DESC;FMTTYPE=text/html:<p align="center" style="color: rgb(62\, 62\, 62)\; font-family: Arial\, Verdana\, Helvetica\, sans-serif\; font-size: 14px\; background-color: rgb(255\, 255\, 255)\; text-align: center\; margin: 0px\;"><span style="font-size:18px\;"><span style="color:#FF0000\;"><strong>This event has been cancelled and will be rescheduled in early 2026.</strong></span></span><br />\n<br />\n<span style="font-size: 16px\; color: rgb(0\, 0\, 0)\; font-family: Tahoma\, Geneva\, sans-serif\;">Join us for our September Business After Hours at</span></p>\n\n<p align="center" style="color: rgb(62\, 62\, 62)\; font-family: Arial\, Verdana\, Helvetica\, sans-serif\; font-size: 14px\; background-color: rgb(255\, 255\, 255)\; text-align: center\; margin: 0px\;"><span style="font-size: 16px\; color: rgb(0\, 0\, 0)\; font-family: Tahoma\, Geneva\, sans-serif\;">&nbsp\;</span></p>\n\n<p align="center" style="color: rgb(62\, 62\, 62)\; font-family: Arial\, Verdana\, Helvetica\, sans-serif\; font-size: 14px\; background-color: rgb(255\, 255\, 255)\; text-align: center\; margin: 0px\;"><span style="font-size: 16px\; color: rgb(0\, 0\, 0)\; font-weight: bold\; font-family: Tahoma\, Geneva\, sans-serif\;">Classic Kitchens and Yale Appliance</span></p>\n\n<p align="center" style="color: rgb(62\, 62\, 62)\; font-family: Arial\, Verdana\, Helvetica\, sans-serif\; font-size: 14px\; background-color: rgb(255\, 255\, 255)\; text-align: center\; margin: 0px\;"><span style="font-size: 16px\; color: rgb(0\, 0\, 0)\; font-family: Tahoma\, Geneva\, sans-serif\;">&nbsp\;</span></p>\n\n<p align="center" style="color: rgb(62\, 62\, 62)\; font-family: Arial\, Verdana\, Helvetica\, sans-serif\; font-size: 14px\; background-color: rgb(255\, 255\, 255)\; text-align: center\; margin: 0px\;"><span style="color: rgb(0\, 0\, 0)\; font-family: Tahoma\, Geneva\, sans-serif\; font-size: 16px\;">&nbsp\;Foster meaningful business relationships\, exchange ideas\, and explore potential collaborations.&nbsp\;&nbsp\;Don&#39\;t miss this chance to expand your professional network&nbsp\;and enhance your business prospects.&nbsp\;&nbsp\;We look forward to the opportunity to connect with you! Bring your business cards for raffle prizes!</span></p>\n\n<p align="center" style="color: rgb(62\, 62\, 62)\; font-family: Arial\, Verdana\, Helvetica\, sans-serif\; font-size: 14px\; background-color: rgb(255\, 255\, 255)\; text-align: center\; margin: 0px\;"><span style="font-size: 16px\; color: rgb(0\, 0\, 0)\; font-family: Tahoma\, Geneva\, sans-serif\;">&nbsp\;</span></p>\n\n<p align="center" style="color: rgb(62\, 62\, 62)\; font-family: Arial\, Verdana\, Helvetica\, sans-serif\; font-size: 14px\; background-color: rgb(255\, 255\, 255)\; text-align: center\; margin: 0px\;"><span style="font-size: 16px\; color: rgb(0\, 0\, 0)\; font-family: Tahoma\, Geneva\, sans-serif\;">Complimentary Appetizers and cash bar!&nbsp\;</span></p>\n
LOCATION:127 Airport Road\, Hyannis\, MA
UID:e.3261.3399
SEQUENCE:3
DTSTAMP:20260421T201829Z
URL:https://business.hyannis.com/events/details/cancelled-september-business-after-hours-at-classic-kitchens-and-yale-appliance-3399
END:VEVENT

END:VCALENDAR
