BEGIN:VCALENDAR
VERSION:2.0
PRODID:-//ChamberMaster//Event Calendar 2.0//EN
METHOD:PUBLISH
X-PUBLISHED-TTL:P3D
REFRESH-INTERVAL:P3D
CALSCALE:GREGORIAN
BEGIN:VEVENT
DTSTART:20180922T150000Z
DTEND:20180922T200000Z
X-MICROSOFT-CDO-ALLDAYEVENT:FALSE
SUMMARY:Cape Cod Oktoberfest
DESCRIPTION:Come celebrate beer with Cape Cod Beer! FREE Admission OR Get your VIP Package with access to an exclusive VIP beer line\, an official event t-shirt\, a pretzel & a half liter souvenir mug with two tickets to fill it with beer (1 liter total)! We'll have German style beers\, knockwurst\, brats\, warm pretzels and more. Live Music by Funktapuss. Grab your drindls & lederhosen for the best costume contest + traditional Oktoberfest games & prizes!
X-ALT-DESC;FMTTYPE=text/html:Come celebrate beer with Cape Cod Beer! FREE Admission OR Get your VIP Package with access to an exclusive VIP beer line\, an official event t-shirt\, a pretzel &amp\; a half liter souvenir mug with two tickets to fill it with beer (1 liter total)! We&rsquo\;ll have German style beers\, knockwurst\, brats\, warm pretzels and more. Live Music by Funktapuss. Grab your drindls &amp\; lederhosen for the best costume contest + traditional Oktoberfest games &amp\; prizes!
LOCATION:Cape Cod Beer 1336 Phinney's Lane Hyannis\, MA 02601
UID:e.3261.54
SEQUENCE:3
DTSTAMP:20260424T173827Z
URL:https://business.hyannis.com/events/details/cape-cod-oktoberfest-54
END:VEVENT

END:VCALENDAR
