BEGIN:VCALENDAR
VERSION:2.0
PRODID:-//ChamberMaster//Event Calendar 2.0//EN
METHOD:PUBLISH
X-PUBLISHED-TTL:P3D
REFRESH-INTERVAL:P3D
CALSCALE:GREGORIAN
BEGIN:VEVENT
DTSTART:20190215T233000Z
DTEND:20190216T023000Z
X-MICROSOFT-CDO-ALLDAYEVENT:FALSE
SUMMARY:Cape Cod St. Patrick's Parade Beer Release and Fundraiser
DESCRIPTION:Come get your Irish on a month early! We're throwing a party to help raise funds for the Cape Cod St. Patrick's Parade that takes place in Yarmouth on March 9th! We'll have live music in the form of a traditional Irish Sessiun\, a performance with Irish dancers\, food\, and we'll be releasing Shillelagh a special Irish Pale Ale for the occasion Slainte! Your ticket includes admission to the event and a custom\, collector's Cape Cod Saint Patrick's Parade pint glass. Cash Bar. The Saint Patrick's Parade is a registered 501C3 Non-Profit Organization. 100% of your ticket price goes to supporting the parade. Get your tickets now   we expect this fun event to sell out!
X-ALT-DESC;FMTTYPE=text/html:Come get your Irish on a month early! We&rsquo\;re throwing a party to help raise funds for the Cape Cod St. Patrick&rsquo\;s Parade that takes place in Yarmouth on March 9th! We&rsquo\;ll have live music in the form of a traditional Irish Sessiun\, a performance with Irish dancers\, food\, and we&rsquo\;ll be releasing Shillelagh a special Irish Pale Ale for the occasion&hellip\;Slainte! Your ticket includes admission to the event and a custom\, collector&rsquo\;s Cape Cod Saint Patrick&rsquo\;s Parade pint glass. Cash Bar. The Saint Patrick&rsquo\;s Parade is a registered 501C3 Non-Profit Organization. 100% of your ticket price goes to supporting the parade. Get your tickets now &ndash\; we expect this fun event to sell out!
LOCATION:Cape Cod Beer 1336 Phinney's Lane Hyannis\, MA
UID:e.3261.189
SEQUENCE:3
DTSTAMP:20260424T095819Z
URL:https://business.hyannis.com/events/details/cape-cod-st-patrick-s-parade-beer-release-and-fundraiser-189
END:VEVENT

END:VCALENDAR
