BEGIN:VCALENDAR
VERSION:2.0
PRODID:-//ChamberMaster//Event Calendar 2.0//EN
METHOD:PUBLISH
X-PUBLISHED-TTL:P3D
REFRESH-INTERVAL:P3D
CALSCALE:GREGORIAN
BEGIN:VEVENT
DTSTART:20181020T230000Z
DTEND:20181021T010000Z
X-MICROSOFT-CDO-ALLDAYEVENT:FALSE
SUMMARY:Captain Fantastic-The Magic of Elton John
DESCRIPTION:Independence House\, Inc. and the Cape Cod Synagogue\, are joining together for a 2nd year in a collaborative fundraiser that benefits both organizations.\n\nMark your calendars for a fun filled evening as Captain Fantastic entertains us in an Elton John tribute concert\, with special guest tribute appearances by Billy Joel\, Jimmy Buffet\, the Rascal Flats and more \n\nWhen: Saturday\, October 20\, 2018\n\nWhere:  Barnstable Performing Arts Center\, 744 West Main Street\, Hyannis\, MA 02601\n\nMAP and DRIVING DIRECTIONS\n\nTHANKS TO OUR SPONSORS: \n\nWENDY'S\,\n\nBARNSTABLE COUNTY SHERIFF'S OFFICE\,\n\nCAPE COD AGGREGATES\,\n\nCAPE COD FIVE\,\n\nTHE FLYING BRIDGE\,\n\nEASTERN BANK\, \n\nBAYSIDE RESORT\,\n\nCAPE COD BROADCASTING MEDIA/OCEAN 104.7\n\nTickets:   Available online now at:\n\nhttps://eltonjohntribute.brownpapertickets.com
X-ALT-DESC;FMTTYPE=text/html:<p>Independence House\, Inc. and the Cape Cod Synagogue\, are joining together for a 2nd&nbsp\;year in a collaborative fundraiser that benefits both organizations.</p>\n\n<p>Mark your calendars for a fun filled evening as Captain Fantastic entertains us in an Elton John tribute concert\, with special guest tribute appearances by Billy Joel\, Jimmy Buffet\, the Rascal Flats and more&hellip\;</p>\n\n<p><strong>When:</strong>&nbsp\;Saturday\, October 20\, 2018<br />\n<strong>Where:&nbsp\;</strong>&nbsp\;Barnstable Performing Arts Center\, 744 West Main Street\, Hyannis\, MA 02601</p>\n\n<p><strong><a href="https://www.google.com/maps/place/744+W+Main+St\,+Hyannis\,+MA+02601/@41.6543993\,-70.3236546\,17z/data=!3m1!4b1!4m5!3m4!1s0x89fb3176da2a0daf:0x597ee368a22d0851!8m2!3d41.6543993!4d-70.3214659" rel="noopener" style="box-sizing: border-box\; margin: 0px\; padding: 0px\; border: 0px\; outline: 0px\; background: 0px 0px\; vertical-align: baseline\; text-size-adjust: 100%\; color: rgb(46\, 163\, 242)\; text-decoration-line: none\;" target="_blank">MAP and DRIVING DIRECTIONS</a></strong></p>\n\n<p><span style="color:#FF0000"><strong><span style="background-color:#FFFFFF">THANKS TO OUR SPONSORS:&nbsp\;</span></strong></span></p>\n\n<p><span style="color:#FF0000"><strong><span style="background-color:#FFFFFF">WENDY&#39\;S\,</span></strong></span><br />\n<strong style="color:rgb(255\, 0\, 0)">BARNSTABLE COUNTY SHERIFF&#39\;S OFFICE\,<br />\nCAPE COD AGGREGATES\,<br />\nCAPE COD FIVE\,<br />\nTHE FLYING BRIDGE\,<br />\nEASTERN BANK\,&nbsp\;<br />\nBAYSIDE RESORT\,<br />\nCAPE COD BROADCASTING MEDIA/OCEAN 104.7</strong></p>\n\n<p><strong>Tickets:&nbsp\;</strong>&nbsp\; Available online now at:<br />\n<a href="https://eltonjohntribute.brownpapertickets.com/" style="box-sizing: border-box\; margin: 0px\; padding: 0px\; border: 0px\; outline: 0px\; background: 0px 0px\; vertical-align: baseline\; text-size-adjust: 100%\; color: rgb(46\, 163\, 242)\; text-decoration-line: none\;"><strong>https://eltonjohntribute.brownpapertickets.com</strong></a></p>\n
LOCATION:Barnstable Performing Arts Center\, 744 West Main Street\, Hyannis\, MA 02601
UID:e.3261.104
SEQUENCE:3
DTSTAMP:20260424T161455Z
URL:https://business.hyannis.com/events/details/captain-fantastic-the-magic-of-elton-john-104
END:VEVENT

END:VCALENDAR
