BEGIN:VCALENDAR
VERSION:2.0
PRODID:-//ChamberMaster//Event Calendar 2.0//EN
METHOD:PUBLISH
X-PUBLISHED-TTL:P3D
REFRESH-INTERVAL:P3D
CALSCALE:GREGORIAN
BEGIN:VEVENT
DTSTART:20181003T220000Z
DTEND:20181004T010000Z
X-MICROSOFT-CDO-ALLDAYEVENT:FALSE
SUMMARY:CCLAMs - Cape Cod Lager & Ale Makers Homebrew Club
DESCRIPTION:Cape Cod Lager & Ale Makers Homebrew Club At Cape Cod Beer The first Wednesday of every month in the off season 6-9pm 6 pm for member dinner 7 pm for Meeting New members ALWAYS welcome!
X-ALT-DESC;FMTTYPE=text/html:Cape Cod Lager &amp\; Ale Makers Homebrew Club At Cape Cod Beer The first Wednesday of every month in the off season 6-9pm 6 pm for member dinner 7 pm for Meeting New members ALWAYS welcome!
LOCATION:Cape Cod Beer 1336 Phinney's Lane Hyannis\, MA 02601
UID:e.3261.60
SEQUENCE:3
DTSTAMP:20260424T160508Z
URL:https://business.hyannis.com/events/details/cclams-cape-cod-lager-ale-makers-homebrew-club-60
END:VEVENT

END:VCALENDAR
