BEGIN:VCALENDAR
VERSION:2.0
PRODID:-//ChamberMaster//Event Calendar 2.0//EN
METHOD:PUBLISH
X-PUBLISHED-TTL:P3D
REFRESH-INTERVAL:P3D
CALSCALE:GREGORIAN
BEGIN:VEVENT
DTSTART:20180824T200000Z
DTEND:20180824T203000Z
X-MICROSOFT-CDO-ALLDAYEVENT:FALSE
SUMMARY:Celebration of Kilwins' Grand Opening
DESCRIPTION:Join us as we celebrate Kilwins Grand Opening.  Kilwins will be offering free fudge and ice cream samples.  Meet the new owner and take a look at the new space!
X-ALT-DESC;FMTTYPE=text/html:Join us as we celebrate Kilwins Grand Opening.&nbsp\; Kilwins will be offering free fudge and ice cream samples.&nbsp\; Meet the new owner and take a look at the new space!&nbsp\;&nbsp\;
LOCATION:386 Main St\, Hyannis\, MA 02601
UID:e.3261.45
SEQUENCE:3
DTSTAMP:20260424T211125Z
URL:https://business.hyannis.com/events/details/celebration-of-kilwins-grand-opening-45
END:VEVENT

END:VCALENDAR
