BEGIN:VCALENDAR
VERSION:2.0
PRODID:-//ChamberMaster//Event Calendar 2.0//EN
METHOD:PUBLISH
X-PUBLISHED-TTL:P3D
REFRESH-INTERVAL:P3D
CALSCALE:GREGORIAN
BEGIN:VEVENT
DTSTART:20190312T113000Z
DTEND:20190312T123000Z
X-MICROSOFT-CDO-ALLDAYEVENT:FALSE
SUMMARY:ChamberQuarterly Morning Mixer - March 2019
DESCRIPTION:ChamberQuarterly is a quarterly morning meeting held around Barnstable with 4 objectives in mind\;\n\n\n\n1.  Networking opportunity for those who find the Business After Hours inconvenient\n\n2.  Update members on Chamber business\n\n3.  Visit a member's location\n\n4.  Listen to a member speak about their business\, their success and their challenges.\n\n\n\nAgenda\n\n7:30 a.m. - 7:45 a.m. arrive at The Original Gourmet Brunch\n\n7:45 a.m. - 8:00 a.m. Update on Chamber business & welcome by our host.\n\n8:00 a.m. - 8:30 a.m. Presentation by Massachusetts Health Connector\n\n\n\nBy providing cost control options to employers and plan choice to employees\, the Massachusetts Health Connector for Business helps employers take the big step of offering health insurance to employees. Health Connector for Business representatives will provide an overview of the health insurance landscape for small business in Massachusetts and offer information on how to best navigate through the marketplace. Participants can learn how to save money on coverage through shopping\, while providing employees a choice of health plans.
X-ALT-DESC;FMTTYPE=text/html:<span style="font-size:14px\;">ChamberQuarterly is a quarterly morning meeting held around Barnstable with 4 objectives in mind\;<br />\n<br />\n1.&nbsp\; Networking opportunity for those who find the Business After Hours inconvenient<br />\n2.&nbsp\; Update members on Chamber business<br />\n3.&nbsp\; Visit a member&#39\;s location<br />\n4.&nbsp\; Listen to a member speak about their business\, their success and their challenges.<br />\n<br />\n<strong><u>Agenda</u></strong><br />\n7:30 a.m. - 7:45 a.m. arrive at The Original Gourmet Brunch<br />\n7:45 a.m. - 8:00 a.m. Update on Chamber business &amp\; welcome by our host.<br />\n8:00 a.m. - 8:30 a.m. Presentation by Massachusetts Health Connector</span><br />\n<br />\n<span style="font-size:14px\;"><span style="caret-color: rgb(0\, 0\, 0)\; color: rgb(0\, 0\, 0)\; font-family: Calibri\, sans-serif\; font-variant-ligatures: normal\; orphans: 2\; widows: 2\;">By providing cost control options to employers and plan choice to employees\, the Massachusetts Health Connector for Business helps employers take the big step of offering health insurance to employees. Health Connector for Business representatives will provide an overview of the health insurance landscape for small business in Massachusetts and offer information on how to best navigate through the marketplace. Participants can learn how to save money on coverage through shopping\, while providing employees a choice of health plans.</span></span><br />\n&nbsp\;
LOCATION:The Original Gourmet Brunch 517 Main Street Hyannis\, MA 02601 Located on Main Street. Curbside parking available or in nearby parking lots.
UID:e.3261.169
SEQUENCE:3
DTSTAMP:20260424T084304Z
URL:https://business.hyannis.com/events/details/chamberquarterly-morning-mixer-march-2019-169
END:VEVENT

END:VCALENDAR
