BEGIN:VCALENDAR
VERSION:2.0
PRODID:-//ChamberMaster//Event Calendar 2.0//EN
METHOD:PUBLISH
X-PUBLISHED-TTL:P3D
REFRESH-INTERVAL:P3D
CALSCALE:GREGORIAN
BEGIN:VEVENT
DTSTART:20181120T123000Z
DTEND:20181120T133000Z
X-MICROSOFT-CDO-ALLDAYEVENT:FALSE
SUMMARY:ChamberQuarterly-November
DESCRIPTION:ChamberQuarterly is a monthly meeting held around Barnstable with three objectives in mind\n\n\n\n1.  Networking opportunity for those who find the Business After Hours inconvenient\n\n2.  Update members on Chamber business\n\n3.  Visit a member's location\n\n4.  Listen to a member speak about their business\, their success and their challenges.\n\n\n\nAgenda\n\n:30-7:45 arrive at Cape Cod Coffee\n\n7:45 - 8:00 update on Chamber business\n\n8:00 - 8:15  Cape Cod Coffee remarks\n\n8:15  Networking
X-ALT-DESC;FMTTYPE=text/html:<br />\nChamberQuarterly is a monthly meeting held around Barnstable with three objectives in mind<br />\n<br />\n1.&nbsp\; Networking opportunity for those who find the Business After Hours inconvenient<br />\n2.&nbsp\; Update members on Chamber business<br />\n3.&nbsp\; Visit a member&#39\;s location<br />\n4.&nbsp\; Listen to a member speak about their business\, their success and their challenges.<br />\n<br />\n<strong><u>Agenda</u></strong><br />\n:30-7:45 arrive at Cape Cod Coffee<br />\n7:45 - 8:00 update on Chamber business<br />\n8:00 - 8:15&nbsp\; Cape Cod Coffee remarks<br />\n8:15&nbsp\; Networking
LOCATION:Cape Cod Coffee 480 Barnstable Rd Hyannis\, MA 02601 This location is at the Airport. There is free parking available. Enter the airport and look for the orange signs to Cape Cod Coffee to direct you to the parking.
UID:e.3261.105
SEQUENCE:3
DTSTAMP:20260424T144136Z
URL:https://business.hyannis.com/events/details/chamberquarterly-november-105
END:VEVENT

END:VCALENDAR
