BEGIN:VCALENDAR
VERSION:2.0
PRODID:-//ChamberMaster//Event Calendar 2.0//EN
METHOD:PUBLISH
X-PUBLISHED-TTL:P3D
REFRESH-INTERVAL:P3D
CALSCALE:GREGORIAN
BEGIN:VEVENT
DTSTART:20180630T140000Z
DTEND:20180701T200000Z
X-MICROSOFT-CDO-ALLDAYEVENT:FALSE
SUMMARY:Chatham Liberty Craft Festival
DESCRIPTION:The Chatham Community Center Lawn will overflow with American made arts and crafts for the Liberty Arts & Craft on Saturday June 30 and Sunday July 1\, 2018. Over 75 Juried artisans will sell & display their American made works\; including Fine Art\, Wearable Art\, Pottery\, Nautical Home D cor\, Fine Jewelry\, Scarves\, Floral Arrangements\, Hair Accessories\, Beach Bags\, Quilts\, Sea Glass Art\, Original Painting\, Children Toys\, Metal Art\, Country Wood Crafts\, Sterling Silver Jewelry\, Mosaic\, Silhouettes\, Adult Apparel\, Pillows\, Aroma-therapy\, Decorative Painting\, Wind Chimes\, Fabric Totes\, Mixed Media\, Folk Art\, Paper Craft\, Garden D cor\, Glass\, Shell Craft and so much more. Enjoy Specialty Foods such as Cranberry Jellies\, Kettle Corn\, Salsas\, Lemonade\, Baked Nuts\, Seasonings\, Herbal dips\, Finishing Sauces and more. The Chatham Liberty Craft Festival is free admission and held rain or shine. Friendly pets on leash are welcome. Directions: From Route 6 take Exit 10. GPS Location: 702 Main Street\, Chatham\, MA 02633. Festival Hours are Saturday from 10am to 5pm and Sunday from 10am to 4pm. For more information visit us at castleberryfairs.com.
X-ALT-DESC;FMTTYPE=text/html:The Chatham Community Center Lawn will overflow with American made arts and crafts for the Liberty Arts &amp\; Craft on Saturday June 30 and Sunday July 1\, 2018. Over 75 Juried artisans will sell &amp\; display their American made works\; including Fine Art\, Wearable Art\, Pottery\, Nautical Home D&eacute\;cor\, Fine Jewelry\, Scarves\, Floral Arrangements\, Hair Accessories\, Beach Bags\, Quilts\, Sea Glass Art\, Original Painting\, Children Toys\, Metal Art\, Country Wood Crafts\, Sterling Silver Jewelry\, Mosaic\, Silhouettes\, Adult Apparel\, Pillows\, Aroma-therapy\, Decorative Painting\, Wind Chimes\, Fabric Totes\, Mixed Media\, Folk Art\, Paper Craft\, Garden D&eacute\;cor\, Glass\, Shell Craft and so much more. Enjoy Specialty Foods such as Cranberry Jellies\, Kettle Corn\, Salsas\, Lemonade\, Baked Nuts\, Seasonings\, Herbal dips\, Finishing Sauces and more. The Chatham Liberty Craft Festival is free admission and held rain or shine. Friendly pets on leash are welcome. Directions: From Route 6 take Exit 10. GPS Location: 702 Main Street\, Chatham\, MA 02633. Festival Hours are Saturday from 10am to 5pm and Sunday from 10am to 4pm. For more information visit us at castleberryfairs.com.
LOCATION:Chatham Community Center Lawn\, Main Street in Chatham
UID:e.3261.18
SEQUENCE:3
DTSTAMP:20260424T223710Z
URL:https://business.hyannis.com/events/details/chatham-liberty-craft-festival-18
END:VEVENT

END:VCALENDAR
