BEGIN:VCALENDAR
VERSION:2.0
PRODID:-//ChamberMaster//Event Calendar 2.0//EN
METHOD:PUBLISH
X-PUBLISHED-TTL:P3D
REFRESH-INTERVAL:P3D
CALSCALE:GREGORIAN
BEGIN:VEVENT
DTSTART:20250308T150000Z
DTEND:20250308T160000Z
X-MICROSOFT-CDO-ALLDAYEVENT:FALSE
SUMMARY:Children's Storytime with Community Readers Dr Rich & Andie Falzone at the OVL!
DESCRIPTION:The Osterville Village Library welcomes Community Readers Dr Rich and Andie Falzone with a fun story time and craft in the Lillian Dixie Morton Children's Room on Saturday March 8th at 10am! For more information on how you can be a community reader for the OVL\, please contact Amy Wolfe at awolfe@clamsnet.org or call the library directly at (508)428-5757
X-ALT-DESC;FMTTYPE=text/html:The Osterville Village Library welcomes Community Readers Dr Rich and Andie Falzone with a fun story time and craft in the Lillian Dixie Morton Children&#39\;s Room on Saturday March 8th at 10am! For more information on how you can be a community reader for the OVL\, please contact Amy Wolfe at awolfe@clamsnet.org or call the library directly at (508)428-5757
LOCATION:Osterville Village Library 43 Wianno Ave Osterville\, MA
UID:e.3261.3224
SEQUENCE:3
DTSTAMP:20260423T103621Z
URL:https://business.hyannis.com/events/details/children-s-storytime-with-community-readers-dr-rich-andie-falzone-at-the-ovl-3224
END:VEVENT

END:VCALENDAR
