BEGIN:VCALENDAR
VERSION:2.0
PRODID:-//ChamberMaster//Event Calendar 2.0//EN
METHOD:PUBLISH
X-PUBLISHED-TTL:P3D
REFRESH-INTERVAL:P3D
CALSCALE:GREGORIAN
BEGIN:VEVENT
DTSTART:20260508T180000Z
DTEND:20260509T170000Z
X-MICROSOFT-CDO-ALLDAYEVENT:FALSE
SUMMARY:Churchill’s Secret Armies in WWII presented by Historian David Barrett
DESCRIPTION:This two-part series explains how\, with Churchill's support\, the British efforts at destroying the Nazi tyranny of World War Two\, resulted in the victory of the Allies in 1945. In particular\, we examine the formation of a very secret organization\, the Special Operations Executive\, SOE\, and some examples of specific operations that took place in occupied Europe. This involved intelligence gathering and sabotage that gave support to the resistance in those occupied countries. Part 1 explains the history of the intelligence services in Britain and the formation of the Special Operations Executive and Part 2 covers several of the various operations that took place during SOE's existence. David Barrett lived in London during the London Blitz and was 6 years old when World War Two finished. Part 1   Friday\, May 8th at 2pm: The history of the intelligence services in Britain and the formation of the Special Operations Executive Part 2   Saturday May 9th at 1pm Covers several of the various operations that took place during SOE's existence. For more information or to register for these events\, please contact Amy Wolfe at awolfe@clamsnet.org or by calling the OVL directly at (508)428-5757
X-ALT-DESC;FMTTYPE=text/html:This two-part series explains how\, with Churchill&rsquo\;s support\, the British efforts at destroying the Nazi tyranny of World War Two\, resulted in the victory of the Allies in 1945. In particular\, we examine the formation of a very secret organization\, the Special Operations Executive\, SOE\, and some examples of specific operations that took place in occupied Europe. This involved intelligence gathering and sabotage that gave support to the resistance in those occupied countries. Part 1 explains the history of the intelligence services in Britain and the formation of the Special Operations Executive and Part 2 covers several of the various operations that took place during SOE&rsquo\;s existence. David Barrett lived in London during the London Blitz and was 6 years old when World War Two finished. Part 1 &ndash\; Friday\, May 8th at 2pm: The history of the intelligence services in Britain and the formation of the Special Operations Executive Part 2 &ndash\; Saturday May 9th at 1pm Covers several of the various operations that took place during SOE&rsquo\;s existence. For more information or to register for these events\, please contact Amy Wolfe at awolfe@clamsnet.org or by calling the OVL directly at (508)428-5757
LOCATION:Main Meeting Room Osterville Village Library 43 Wianno Ave Osterville\, MA
UID:e.3261.3961
SEQUENCE:3
DTSTAMP:20260420T062551Z
URL:https://business.hyannis.com/events/details/churchill-s-secret-armies-in-wwii-presented-by-historian-david-barrett-3961
END:VEVENT

END:VCALENDAR
